Workbook

Sheet Einstieg
A13: Ehrenamt Abrechnung
A17: Bitte gründlich durchlesen!
A20: Bearbeitung
A23: Bevor ihr beginnt die Zeiten einzutragen füllt bitte die makierten Zellen mit euren Daten aus. Diese werden automatisch in die Monatsansicht übertragen
A26: Auf den jeweiligen Monatsblättern befindet sich eine Tabelle mit allen Tagen im Monat. Da es vorkommen kann, dass ihr mehr als einen Kurs am Tag habt, haben wir für euch eine Möglichkeit eingebaut auch diese zu notieren. Dazu öffnet ihr auf der linken Seite per "+" den Tag und könnt bis zu 3 Kurse dort eintragen. Wichtig: auch wenn ihr nur einen Kurs am Tag hattet, müsst ihr den Tag mit dem "+" öffnen und dann in der Zeile vom Kurs1 eure Daten eintragen
A34: Beispiel:
A54: Legende:
B56: muss ausgefüllt werden
B57: muss auf den Monatsbättern ausgefüllt werden
A60: Felder mit automatischer Formatierungen:
A62: Die Zelle "Dauer (Std.)" wird automatisch nach dem Befüllen der Zellen hinter Kurs 1 - "Beginn" + "Ende" zusammengerechnet.
A63: Die Uhrzeiten müssen bitte in folgenden Format eingetragen werden: hh:mm
A64: Bitte fügt auch den jeweiligen Ort der Trainingseinheit dazu.
A66: Beispiel:
A84: Als nächster Schritt wird dann der vereinbarte Stundensatz pro Trainingseinheit in der entsprechenden Zeile eingetragen. Die Zelle "Gesamt" wird auch hier wieder automatisch befüllt.
A87: Beispiel:
A107: Auf der "Gesamtübersicht" werden die eingetragen Daten automatisch ausgefüllt. Hier erhaltet ihr auch den Überblick über die bisher erhaltene Pauschale und den verbleibenden Betrag für das Kalenderjahr
A111: Beispiel:
A137: Beschreibung:
A139: Gesamtübersicht: | B139: Hier erhaltet ihr einen Gesamtüberblick aller Stunden und Pauschalen im laufenden Kalenderjahr.
A140: Monatsübersicht: | B140: Hier erhaltet ihr eine Gesamtübersicht über den kompletten Monat.
A147: Senden an:
A149: Wenn ihr die Liste oder den jeweiligen Monat ausgefüllt habt, schickt ihr die gesamte Datei oder das Blatt (Monatsansicht) an folgende E-Mail-Adresse:
A152: abrechnung@viktoriamitte.de
A154: Wichtig: schickt uns die Datei bei in folgenden Format - VornameName_Monat.xls
A156: Sollte euch ein Fehler auffallen, so meldet diesen bitte auch an die oben genannte Mailadresse.
A158: SV Rot-Weiß Viktoria Mitte 08 e.V. | F158: Tel. | G158: 030/55274674
A159: Am Zirkus 5 | F159: E-Mail | G159: info@viktoriamitte.de
A160: 10117 Berlin

Sheet Gesamtübersicht
A10: Ehrenamtler/in - Stundenabrechnung
A12: Ehrenamtler/in:
A13: Adresse:
A14: Mobil:
A15: IBAN:
A16: Abteilung:
A18: Monat | B18: Dauer (Std.) monatlich | C18: Einzelsumme
A19: Januar | B19: =Januar!$G$148 -> 0 | C19: =Januar!$I$148 -> 0
A20: Februar | B20: =Februar!G136 -> 0 | C20: =Februar!$I$136 -> 0
A21: März | B21: =März!G148 -> 0 | C21: =März!$I$148 -> 0
A22: April | B22: =April!G144 -> 0 | C22: =April!$I$144 -> 0
A23: Mai | B23: =Mai!G148 -> 0 | C23: =Mai!$I$148 -> 0
A24: Juni | B24: =Juni!G144 -> 0 | C24: =Juni!$I$144 -> 0
A25: Juli | B25: =Juli!G148 -> 0 | C25: =Juli!$I$148 -> 0
A26: August | B26: =August!G148 -> 0 | C26: =August!$I$148 -> 0
A27: September | B27: =September!G144 -> 0 | C27: =September!$I$144 -> 0
A28: Oktober | B28: =Oktober!G148 -> 0 | C28: =Oktober!$I$148 -> 0
A29: November | B29: =November!G144 -> 0 | C29: =November!$I$144 -> 0
A30: Dezember | B30: =Dezember!G148 -> 0 | C30: =Dezember!$I$148 -> 0
A31: Gesamt | B31: =SUM(B19:B30) -> 0 | C31: =SUM(C19:C30) -> 0
A34: Ehrenamtspauschale pro Kalenderjahr | C34: 960
A35: bereits erhalten | C35: =SUM(C19:C30) -> 0
A36: Verbleibender Betrag der Ehrenamtspauschale | C36: =C34-C35 -> 960
A40: Senden an:
A42: Wenn ihr die Liste oder den jeweiligen Monat ausgefüllt habt, so schickt die gesamte Datei oder das Blatt an folgende E-Mail-Adresse:
A45: abrechnung@viktoriamitte.de
A51: SV Rot-Weiß Viktoria Mitte 08 e.V. | F51: Tel. | G51: 030/55274674
A52: Am Zirkus 5 | F52: E-Mail | G52: info@viktoriamitte.de
A53: 10117 Berlin

Sheet Januar
A10: Ehrenamtler/in - Stundenabrechnung
A12: Ehrenamtler/in: | C12: =Gesamtübersicht!C12 -> 0
A13: Adresse: | C13: =Gesamtübersicht!C13 -> 0
A14: Mobil: | C14: =Gesamtübersicht!C14 -> 0
A15: IBAN: | C15: =Gesamtübersicht!C15 -> 0
D19: Monat | E19: Jahr
A20: Abrechnung Ehrenamtspauschale für: | D20: Januar | E20: 2026
A21: in der Abteilung: | D21: =Gesamtübersicht!C16 -> 0
A23: # | B23: Monat | C23: Tag | D23: Beginn | E23: Ende | F23: Trainingsort | G23: Dauer (Std.) | H23: Stundensatz | I23: Gesamt
A24: 1. | B24: Januar | C24: Donnerstag | G24: {=SUM(E25:E27-D25:D27)} -> 0 | I24: {=SUMPRODUCT(G25:G27*24,H25:H27)} -> 0
C25: Einheit 1 | G25: =SUM(E25-D25) -> 0
C26: Einheit 2 | G26: =SUM(E26-D26) -> 0
C27: Einheit 3 | G27: =SUM(E27-D27) -> 0
A28: 2. | B28: Januar | C28: Freitag | G28: {=SUM(E29:E31-D29:D31)} -> 0 | I28: {=SUMPRODUCT(G29:G31*24,H29:H31)} -> 0
C29: Einheit 1 | G29: =SUM(E29-D29) -> 0
C30: Einheit 2 | G30: =SUM(E30-D30) -> 0
C31: Einheit 3 | G31: =SUM(E31-D31) -> 0
A32: 3. | B32: Januar | C32: Samstag | G32: {=SUM(E33:E35-D33:D35)} -> 0 | I32: {=SUMPRODUCT(G33:G35*24,H33:H35)} -> 0
C33: Einheit 1 | G33: =SUM(E33-D33) -> 0
C34: Einheit 2 | G34: =SUM(E34-D34) -> 0
C35: Einheit 3 | G35: =SUM(E35-D35) -> 0
A36: 4. | B36: Januar | C36: Sonntag | G36: {=SUM(E37:E39-D37:D39)} -> 0 | I36: {=SUMPRODUCT(G37:G39*24,H37:H39)} -> 0
C37: Einheit 1 | G37: =SUM(E37-D37) -> 0
C38: Einheit 2 | G38: =SUM(E38-D38) -> 0
C39: Einheit 3 | G39: =SUM(E39-D39) -> 0
A40: 5. | B40: Januar | C40: Montag | G40: {=SUM(E41:E43-D41:D43)} -> 0 | I40: {=SUMPRODUCT(G41:G43*24,H41:H43)} -> 0
C41: Einheit 1 | G41: =SUM(E41-D41) -> 0
C42: Einheit 2 | G42: =SUM(E42-D42) -> 0
C43: Einheit 3 | G43: =SUM(E43-D43) -> 0
A44: 6. | B44: Januar | C44: Dienstag | G44: {=SUM(E45:E47-D45:D47)} -> 0 | I44: {=SUMPRODUCT(G45:G47*24,H45:H47)} -> 0
C45: Einheit 1 | G45: =SUM(E45-D45) -> 0
C46: Einheit 2 | G46: =SUM(E46-D46) -> 0
C47: Einheit 3 | G47: =SUM(E47-D47) -> 0
A48: 7. | B48: Januar | C48: Mittwoch | G48: {=SUM(E49:E51-D49:D51)} -> 0 | I48: {=SUMPRODUCT(G49:G51*24,H49:H51)} -> 0
C49: Einheit 1 | G49: =SUM(E49-D49) -> 0
C50: Einheit 2 | G50: =SUM(E50-D50) -> 0
C51: Einheit 3 | G51: =SUM(E51-D51) -> 0
A52: 8. | B52: Januar | C52: Donnerstag | G52: {=SUM(E53:E55-D53:D55)} -> 0 | I52: {=SUMPRODUCT(G53:G55*24,H53:H55)} -> 0
C53: Einheit 1 | G53: =SUM(E53-D53) -> 0
C54: Einheit 2 | G54: =SUM(E54-D54) -> 0
C55: Einheit 3 | G55: =SUM(E55-D55) -> 0
A56: 9. | B56: Januar | C56: Freitag | G56: {=SUM(E57:E59-D57:D59)} -> 0 | I56: {=SUMPRODUCT(G57:G59*24,H57:H59)} -> 0
C57: Einheit 1 | G57: =SUM(E57-D57) -> 0
C58: Einheit 2 | G58: =SUM(E58-D58) -> 0
C59: Einheit 3 | G59: =SUM(E59-D59) -> 0
A60: 10. | B60: Januar | C60: Samstag | G60: {=SUM(E61:E63-D61:D63)} -> 0 | I60: {=SUMPRODUCT(G61:G63*24,H61:H63)} -> 0
C61: Einheit 1 | G61: =SUM(E61-D61) -> 0
C62: Einheit 2 | G62: =SUM(E62-D62) -> 0
C63: Einheit 3 | G63: =SUM(E63-D63) -> 0
A64: 11. | B64: Januar | C64: Sonntag | G64: {=SUM(E65:E67-D65:D67)} -> 0 | I64: {=SUMPRODUCT(G65:G67*24,H65:H67)} -> 0
C65: Einheit 1 | G65: =SUM(E65-D65) -> 0
C66: Einheit 2 | G66: =SUM(E66-D66) -> 0
C67: Einheit 3 | G67: =SUM(E67-D67) -> 0
A68: 12. | B68: Januar | C68: Montag | G68: {=SUM(E69:E71-D69:D71)} -> 0 | I68: {=SUMPRODUCT(G69:G71*24,H69:H71)} -> 0
C69: Einheit 1 | G69: =SUM(E69-D69) -> 0
C70: Einheit 2 | G70: =SUM(E70-D70) -> 0
C71: Einheit 3 | G71: =SUM(E71-D71) -> 0
A72: 13. | B72: Januar | C72: Dienstag | G72: {=SUM(E73:E75-D73:D75)} -> 0 | I72: {=SUMPRODUCT(G73:G75*24,H73:H75)} -> 0
C73: Einheit 1 | G73: =SUM(E73-D73) -> 0
C74: Einheit 2 | G74: =SUM(E74-D74) -> 0
C75: Einheit 3 | G75: =SUM(E75-D75) -> 0
A76: 14. | B76: Januar | C76: Mittwoch | G76: {=SUM(E77:E79-D77:D79)} -> 0 | I76: {=SUMPRODUCT(G77:G79*24,H77:H79)} -> 0
C77: Einheit 1 | G77: =SUM(E77-D77) -> 0
C78: Einheit 2 | G78: =SUM(E78-D78) -> 0
C79: Einheit 3 | G79: =SUM(E79-D79) -> 0
A80: 15. | B80: Januar | C80: Donnerstag | G80: {=SUM(E81:E83-D81:D83)} -> 0 | I80: {=SUMPRODUCT(G81:G83*24,H81:H83)} -> 0
C81: Einheit 1 | G81: =SUM(E81-D81) -> 0
C82: Einheit 2 | G82: =SUM(E82-D82) -> 0
C83: Einheit 3 | G83: =SUM(E83-D83) -> 0
A84: 16. | B84: Januar | C84: Freitag | G84: {=SUM(E85:E87-D85:D87)} -> 0 | I84: {=SUMPRODUCT(G85:G87*24,H85:H87)} -> 0
C85: Einheit 1 | G85: =SUM(E85-D85) -> 0
C86: Einheit 2 | G86: =SUM(E86-D86) -> 0
C87: Einheit 3 | G87: =SUM(E87-D87) -> 0
A88: 17. | B88: Januar | C88: Samstag | G88: {=SUM(E89:E91-D89:D91)} -> 0 | I88: {=SUMPRODUCT(G89:G91*24,H89:H91)} -> 0
C89: Einheit 1 | G89: =SUM(E89-D89) -> 0
C90: Einheit 2 | G90: =SUM(E90-D90) -> 0
C91: Einheit 3 | G91: =SUM(E91-D91) -> 0
A92: 18. | B92: Januar | C92: Sonntag | G92: {=SUM(E93:E95-D93:D95)} -> 0 | I92: {=SUMPRODUCT(G93:G95*24,H93:H95)} -> 0
C93: Einheit 1 | G93: =SUM(E93-D93) -> 0
C94: Einheit 2 | G94: =SUM(E94-D94) -> 0
C95: Einheit 3 | G95: =SUM(E95-D95) -> 0
A96: 19. | B96: Januar | C96: Montag | G96: {=SUM(E97:E99-D97:D99)} -> 0 | I96: {=SUMPRODUCT(G97:G99*24,H97:H99)} -> 0
C97: Einheit 1 | G97: =SUM(E97-D97) -> 0
C98: Einheit 2 | G98: =SUM(E98-D98) -> 0
C99: Einheit 3 | G99: =SUM(E99-D99) -> 0
A100: 20. | B100: Januar | C100: Dienstag | G100: {=SUM(E101:E103-D101:D103)} -> 0 | I100: {=SUMPRODUCT(G101:G103*24,H101:H103)} -> 0
C101: Einheit 1 | G101: =SUM(E101-D101) -> 0
C102: Einheit 2 | G102: =SUM(E102-D102) -> 0
C103: Einheit 3 | G103: =SUM(E103-D103) -> 0
A104: 21. | B104: Januar | C104: Mittwoch | G104: {=SUM(E105:E107-D105:D107)} -> 0 | I104: {=SUMPRODUCT(G105:G107*24,H105:H107)} -> 0
C105: Einheit 1 | G105: =SUM(E105-D105) -> 0
C106: Einheit 2 | G106: =SUM(E106-D106) -> 0
C107: Einheit 3 | G107: =SUM(E107-D107) -> 0
A108: 22. | B108: Januar | C108: Donnerstag | G108: {=SUM(E109:E111-D109:D111)} -> 0 | I108: {=SUMPRODUCT(G109:G111*24,H109:H111)} -> 0
C109: Einheit 1 | G109: =SUM(E109-D109) -> 0
C110: Einheit 2 | G110: =SUM(E110-D110) -> 0
C111: Einheit 3 | G111: =SUM(E111-D111) -> 0
A112: 23. | B112: Januar | C112: Freitag | G112: {=SUM(E113:E115-D113:D115)} -> 0 | I112: {=SUMPRODUCT(G113:G115*24,H113:H115)} -> 0
C113: Einheit 1 | G113: =SUM(E113-D113) -> 0
C114: Einheit 2 | G114: =SUM(E114-D114) -> 0
...

Sheet Februar
A10: Ehrenamtler/in - Stundenabrechnung
A12: Ehrenamtler/in: | C12: =Gesamtübersicht!C12 -> 0
A13: Adresse: | C13: =Gesamtübersicht!C13 -> 0
A14: Mobil: | C14: =Gesamtübersicht!C14 -> 0
A15: IBAN: | C15: =Gesamtübersicht!C15 -> 0
D19: Monat | E19: Jahr
A20: Abrechnung Ehrenamtspauschale für: | D20: Februar | E20: 2026
A21: in der Abteilung: | D21: =Gesamtübersicht!C16 -> 0
A23: # | B23: Monat | C23: Tag | D23: Beginn | E23: Ende | F23: Trainingsort | G23: Dauer (Std.) | H23: Stundensatz | I23: Gesamt
A24: 1. | B24: Februar | C24: Sonntag | G24: {=SUM(E25:E27-D25:D27)} -> 0 | I24: {=SUMPRODUCT(G25:G27*24,H25:H27)} -> 0
C25: Einheit 1 | G25: =SUM(E25-D25) -> 0
C26: Einheit 2 | G26: =SUM(E26-D26) -> 0
C27: Einheit 3 | G27: =SUM(E27-D27) -> 0
A28: 2. | B28: Februar | C28: Montag | G28: {=SUM(E29:E31-D29:D31)} -> 0 | I28: {=SUMPRODUCT(G29:G31*24,H29:H31)} -> 0
C29: Einheit 1 | G29: =SUM(E29-D29) -> 0
C30: Einheit 2 | G30: =SUM(E30-D30) -> 0
C31: Einheit 3 | G31: =SUM(E31-D31) -> 0
A32: 3. | B32: Februar | C32: Dienstag | G32: {=SUM(E33:E35-D33:D35)} -> 0 | I32: {=SUMPRODUCT(G33:G35*24,H33:H35)} -> 0
C33: Einheit 1 | G33: =SUM(E33-D33) -> 0
C34: Einheit 2 | G34: =SUM(E34-D34) -> 0
C35: Einheit 3 | G35: =SUM(E35-D35) -> 0
A36: 4. | B36: Februar | C36: Mittwoch | G36: {=SUM(E37:E39-D37:D39)} -> 0 | I36: {=SUMPRODUCT(G37:G39*24,H37:H39)} -> 0
C37: Einheit 1 | G37: =SUM(E37-D37) -> 0
C38: Einheit 2 | G38: =SUM(E38-D38) -> 0
C39: Einheit 3 | G39: =SUM(E39-D39) -> 0
A40: 5. | B40: Februar | C40: Donnerstag | G40: {=SUM(E41:E43-D41:D43)} -> 0 | I40: {=SUMPRODUCT(G41:G43*24,H41:H43)} -> 0
C41: Einheit 1 | G41: =SUM(E41-D41) -> 0
C42: Einheit 2 | G42: =SUM(E42-D42) -> 0
C43: Einheit 3 | G43: =SUM(E43-D43) -> 0
A44: 6. | B44: Februar | C44: Freitag | G44: {=SUM(E45:E47-D45:D47)} -> 0 | I44: {=SUMPRODUCT(G45:G47*24,H45:H47)} -> 0
C45: Einheit 1 | G45: =SUM(E45-D45) -> 0
C46: Einheit 2 | G46: =SUM(E46-D46) -> 0
C47: Einheit 3 | G47: =SUM(E47-D47) -> 0
A48: 7. | B48: Februar | C48: Samstag | G48: {=SUM(E49:E51-D49:D51)} -> 0 | I48: {=SUMPRODUCT(G49:G51*24,H49:H51)} -> 0
C49: Einheit 1 | G49: =SUM(E49-D49) -> 0
C50: Einheit 2 | G50: =SUM(E50-D50) -> 0
C51: Einheit 3 | G51: =SUM(E51-D51) -> 0
A52: 8. | B52: Februar | C52: Sonntag | G52: {=SUM(E53:E55-D53:D55)} -> 0 | I52: {=SUMPRODUCT(G53:G55*24,H53:H55)} -> 0
C53: Einheit 1 | G53: =SUM(E53-D53) -> 0
C54: Einheit 2 | G54: =SUM(E54-D54) -> 0
C55: Einheit 3 | G55: =SUM(E55-D55) -> 0
A56: 9. | B56: Februar | C56: Montag | G56: {=SUM(E57:E59-D57:D59)} -> 0 | I56: {=SUMPRODUCT(G57:G59*24,H57:H59)} -> 0
C57: Einheit 1 | G57: =SUM(E57-D57) -> 0
C58: Einheit 2 | G58: =SUM(E58-D58) -> 0
C59: Einheit 3 | G59: =SUM(E59-D59) -> 0
A60: 10. | B60: Februar | C60: Dienstag | G60: {=SUM(E61:E63-D61:D63)} -> 0 | I60: {=SUMPRODUCT(G61:G63*24,H61:H63)} -> 0
C61: Einheit 1 | G61: =SUM(E61-D61) -> 0
C62: Einheit 2 | G62: =SUM(E62-D62) -> 0
C63: Einheit 3 | G63: =SUM(E63-D63) -> 0
A64: 11. | B64: Februar | C64: Mittwoch | G64: {=SUM(E65:E67-D65:D67)} -> 0 | I64: {=SUMPRODUCT(G65:G67*24,H65:H67)} -> 0
C65: Einheit 1 | G65: =SUM(E65-D65) -> 0
C66: Einheit 2 | G66: =SUM(E66-D66) -> 0
C67: Einheit 3 | G67: =SUM(E67-D67) -> 0
A68: 12. | B68: Februar | C68: Donnerstag | G68: {=SUM(E69:E71-D69:D71)} -> 0 | I68: {=SUMPRODUCT(G69:G71*24,H69:H71)} -> 0
C69: Einheit 1 | G69: =SUM(E69-D69) -> 0
C70: Einheit 2 | G70: =SUM(E70-D70) -> 0
C71: Einheit 3 | G71: =SUM(E71-D71) -> 0
A72: 13. | B72: Februar | C72: Freitag | G72: {=SUM(E73:E75-D73:D75)} -> 0 | I72: {=SUMPRODUCT(G73:G75*24,H73:H75)} -> 0
C73: Einheit 1 | G73: =SUM(E73-D73) -> 0
C74: Einheit 2 | G74: =SUM(E74-D74) -> 0
C75: Einheit 3 | G75: =SUM(E75-D75) -> 0
A76: 14. | B76: Februar | C76: Samstag | G76: {=SUM(E77:E79-D77:D79)} -> 0 | I76: {=SUMPRODUCT(G77:G79*24,H77:H79)} -> 0
C77: Einheit 1 | G77: =SUM(E77-D77) -> 0
C78: Einheit 2 | G78: =SUM(E78-D78) -> 0
C79: Einheit 3 | G79: =SUM(E79-D79) -> 0
A80: 15. | B80: Februar | C80: Sonntag | G80: {=SUM(E81:E83-D81:D83)} -> 0 | I80: {=SUMPRODUCT(G81:G83*24,H81:H83)} -> 0
C81: Einheit 1 | G81: =SUM(E81-D81) -> 0
C82: Einheit 2 | G82: =SUM(E82-D82) -> 0
C83: Einheit 3 | G83: =SUM(E83-D83) -> 0
A84: 16. | B84: Februar | C84: Montag | G84: {=SUM(E85:E87-D85:D87)} -> 0 | I84: {=SUMPRODUCT(G85:G87*24,H85:H87)} -> 0
C85: Einheit 1 | G85: =SUM(E85-D85) -> 0
C86: Einheit 2 | G86: =SUM(E86-D86) -> 0
C87: Einheit 3 | G87: =SUM(E87-D87) -> 0
A88: 17. | B88: Februar | C88: Dienstag | G88: {=SUM(E89:E91-D89:D91)} -> 0 | I88: {=SUMPRODUCT(G89:G91*24,H89:H91)} -> 0
C89: Einheit 1 | G89: =SUM(E89-D89) -> 0
C90: Einheit 2 | G90: =SUM(E90-D90) -> 0
C91: Einheit 3 | G91: =SUM(E91-D91) -> 0
A92: 18. | B92: Februar | C92: Mittwoch | G92: {=SUM(E93:E95-D93:D95)} -> 0 | I92: {=SUMPRODUCT(G93:G95*24,H93:H95)} -> 0
C93: Einheit 1 | G93: =SUM(E93-D93) -> 0
C94: Einheit 2 | G94: =SUM(E94-D94) -> 0
C95: Einheit 3 | G95: =SUM(E95-D95) -> 0
A96: 19. | B96: Februar | C96: Donnerstag | G96: {=SUM(E97:E99-D97:D99)} -> 0 | I96: {=SUMPRODUCT(G97:G99*24,H97:H99)} -> 0
C97: Einheit 1 | G97: =SUM(E97-D97) -> 0
C98: Einheit 2 | G98: =SUM(E98-D98) -> 0
C99: Einheit 3 | G99: =SUM(E99-D99) -> 0
A100: 20. | B100: Februar | C100: Freitag | G100: {=SUM(E101:E103-D101:D103)} -> 0 | I100: {=SUMPRODUCT(G101:G103*24,H101:H103)} -> 0
C101: Einheit 1 | G101: =SUM(E101-D101) -> 0
C102: Einheit 2 | G102: =SUM(E102-D102) -> 0
C103: Einheit 3 | G103: =SUM(E103-D103) -> 0
A104: 21. | B104: Februar | C104: Samstag | G104: {=SUM(E105:E107-D105:D107)} -> 0 | I104: {=SUMPRODUCT(G105:G107*24,H105:H107)} -> 0
C105: Einheit 1 | G105: =SUM(E105-D105) -> 0
C106: Einheit 2 | G106: =SUM(E106-D106) -> 0
C107: Einheit 3 | G107: =SUM(E107-D107) -> 0
A108: 22. | B108: Februar | C108: Sonntag | G108: {=SUM(E109:E111-D109:D111)} -> 0 | I108: {=SUMPRODUCT(G109:G111*24,H109:H111)} -> 0
C109: Einheit 1 | G109: =SUM(E109-D109) -> 0
C110: Einheit 2 | G110: =SUM(E110-D110) -> 0
C111: Einheit 3 | G111: =SUM(E111-D111) -> 0
A112: 23. | B112: Februar | C112: Montag | G112: {=SUM(E113:E115-D113:D115)} -> 0 | I112: {=SUMPRODUCT(G113:G115*24,H113:H115)} -> 0
C113: Einheit 1 | G113: =SUM(E113-D113) -> 0
C114: Einheit 2 | G114: =SUM(E114-D114) -> 0
...

Sheet März
A10: Ehrenamtler/in - Stundenabrechnung
A12: Ehrenamtler/in: | C12: =Gesamtübersicht!C12 -> 0
A13: Adresse: | C13: =Gesamtübersicht!C13 -> 0
A14: Mobil: | C14: =Gesamtübersicht!C14 -> 0
A15: IBAN: | C15: =Gesamtübersicht!C15 -> 0
D19: Monat | E19: Jahr
A20: Abrechnung Ehrenamtspauschale für: | D20: März | E20: 2026
A21: in der Abteilung: | D21: =Gesamtübersicht!C16 -> 0
A23: # | B23: Monat | C23: Tag | D23: Beginn | E23: Ende | F23: Trainingsort | G23: Dauer (Std.) | H23: Stundensatz | I23: Gesamt
A24: 1. | B24: März | C24: Sonntag | G24: {=SUM(E25:E27-D25:D27)} -> 0 | I24: {=SUMPRODUCT(G25:G27*24,H25:H27)} -> 0
C25: Einheit 1 | G25: =SUM(E25-D25) -> 0
C26: Einheit 2 | G26: =SUM(E26-D26) -> 0
C27: Einheit 3 | G27: =SUM(E27-D27) -> 0
A28: 2. | B28: März | C28: Montag | G28: {=SUM(E29:E31-D29:D31)} -> 0 | I28: {=SUMPRODUCT(G29:G31*24,H29:H31)} -> 0
C29: Einheit 1 | G29: =SUM(E29-D29) -> 0
C30: Einheit 2 | G30: =SUM(E30-D30) -> 0
C31: Einheit 3 | G31: =SUM(E31-D31) -> 0
A32: 3. | B32: März | C32: Dienstag | G32: {=SUM(E33:E35-D33:D35)} -> 0 | I32: {=SUMPRODUCT(G33:G35*24,H33:H35)} -> 0
C33: Einheit 1 | G33: =SUM(E33-D33) -> 0
C34: Einheit 2 | G34: =SUM(E34-D34) -> 0
C35: Einheit 3 | G35: =SUM(E35-D35) -> 0
A36: 4. | B36: März | C36: Mittwoch | G36: {=SUM(E37:E39-D37:D39)} -> 0 | I36: {=SUMPRODUCT(G37:G39*24,H37:H39)} -> 0
C37: Einheit 1 | G37: =SUM(E37-D37) -> 0
C38: Einheit 2 | G38: =SUM(E38-D38) -> 0
C39: Einheit 3 | G39: =SUM(E39-D39) -> 0
A40: 5. | B40: März | C40: Donnerstag | G40: {=SUM(E41:E43-D41:D43)} -> 0 | I40: {=SUMPRODUCT(G41:G43*24,H41:H43)} -> 0
C41: Einheit 1 | G41: =SUM(E41-D41) -> 0
C42: Einheit 2 | G42: =SUM(E42-D42) -> 0
C43: Einheit 3 | G43: =SUM(E43-D43) -> 0
A44: 6. | B44: März | C44: Freitag | G44: {=SUM(E45:E47-D45:D47)} -> 0 | I44: {=SUMPRODUCT(G45:G47*24,H45:H47)} -> 0
C45: Einheit 1 | G45: =SUM(E45-D45) -> 0
C46: Einheit 2 | G46: =SUM(E46-D46) -> 0
C47: Einheit 3 | G47: =SUM(E47-D47) -> 0
A48: 7. | B48: März | C48: Samstag | G48: {=SUM(E49:E51-D49:D51)} -> 0 | I48: {=SUMPRODUCT(G49:G51*24,H49:H51)} -> 0
C49: Einheit 1 | G49: =SUM(E49-D49) -> 0
C50: Einheit 2 | G50: =SUM(E50-D50) -> 0
C51: Einheit 3 | G51: =SUM(E51-D51) -> 0
A52: 8. | B52: März | C52: Sonntag | G52: {=SUM(E53:E55-D53:D55)} -> 0 | I52: {=SUMPRODUCT(G53:G55*24,H53:H55)} -> 0
C53: Einheit 1 | G53: =SUM(E53-D53) -> 0
C54: Einheit 2 | G54: =SUM(E54-D54) -> 0
C55: Einheit 3 | G55: =SUM(E55-D55) -> 0
A56: 9. | B56: März | C56: Montag | G56: {=SUM(E57:E59-D57:D59)} -> 0 | I56: {=SUMPRODUCT(G57:G59*24,H57:H59)} -> 0
C57: Einheit 1 | G57: =SUM(E57-D57) -> 0
C58: Einheit 2 | G58: =SUM(E58-D58) -> 0
C59: Einheit 3 | G59: =SUM(E59-D59) -> 0
A60: 10. | B60: März | C60: Dienstag | G60: {=SUM(E61:E63-D61:D63)} -> 0 | I60: {=SUMPRODUCT(G61:G63*24,H61:H63)} -> 0
C61: Einheit 1 | G61: =SUM(E61-D61) -> 0
C62: Einheit 2 | G62: =SUM(E62-D62) -> 0
C63: Einheit 3 | G63: =SUM(E63-D63) -> 0
A64: 11. | B64: März | C64: Mittwoch | G64: {=SUM(E65:E67-D65:D67)} -> 0 | I64: {=SUMPRODUCT(G65:G67*24,H65:H67)} -> 0
C65: Einheit 1 | G65: =SUM(E65-D65) -> 0
C66: Einheit 2 | G66: =SUM(E66-D66) -> 0
C67: Einheit 3 | G67: =SUM(E67-D67) -> 0
A68: 12. | B68: März | C68: Donnerstag | G68: {=SUM(E69:E71-D69:D71)} -> 0 | I68: {=SUMPRODUCT(G69:G71*24,H69:H71)} -> 0
C69: Einheit 1 | G69: =SUM(E69-D69) -> 0
C70: Einheit 2 | G70: =SUM(E70-D70) -> 0
C71: Einheit 3 | G71: =SUM(E71-D71) -> 0
A72: 13. | B72: März | C72: Freitag | G72: {=SUM(E73:E75-D73:D75)} -> 0 | I72: {=SUMPRODUCT(G73:G75*24,H73:H75)} -> 0
C73: Einheit 1 | G73: =SUM(E73-D73) -> 0
C74: Einheit 2 | G74: =SUM(E74-D74) -> 0
C75: Einheit 3 | G75: =SUM(E75-D75) -> 0
A76: 14. | B76: März | C76: Samstag | G76: {=SUM(E77:E79-D77:D79)} -> 0 | I76: {=SUMPRODUCT(G77:G79*24,H77:H79)} -> 0
C77: Einheit 1 | G77: =SUM(E77-D77) -> 0
C78: Einheit 2 | G78: =SUM(E78-D78) -> 0
C79: Einheit 3 | G79: =SUM(E79-D79) -> 0
A80: 15. | B80: März | C80: Sonntag | G80: {=SUM(E81:E83-D81:D83)} -> 0 | I80: {=SUMPRODUCT(G81:G83*24,H81:H83)} -> 0
C81: Einheit 1 | G81: =SUM(E81-D81) -> 0
C82: Einheit 2 | G82: =SUM(E82-D82) -> 0
C83: Einheit 3 | G83: =SUM(E83-D83) -> 0
A84: 16. | B84: März | C84: Montag | G84: {=SUM(E85:E87-D85:D87)} -> 0 | I84: {=SUMPRODUCT(G85:G87*24,H85:H87)} -> 0
C85: Einheit 1 | G85: =SUM(E85-D85) -> 0
C86: Einheit 2 | G86: =SUM(E86-D86) -> 0
C87: Einheit 3 | G87: =SUM(E87-D87) -> 0
A88: 17. | B88: März | C88: Dienstag | G88: {=SUM(E89:E91-D89:D91)} -> 0 | I88: {=SUMPRODUCT(G89:G91*24,H89:H91)} -> 0
C89: Einheit 1 | G89: =SUM(E89-D89) -> 0
C90: Einheit 2 | G90: =SUM(E90-D90) -> 0
C91: Einheit 3 | G91: =SUM(E91-D91) -> 0
A92: 18. | B92: März | C92: Mittwoch | G92: {=SUM(E93:E95-D93:D95)} -> 0 | I92: {=SUMPRODUCT(G93:G95*24,H93:H95)} -> 0
C93: Einheit 1 | G93: =SUM(E93-D93) -> 0
C94: Einheit 2 | G94: =SUM(E94-D94) -> 0
C95: Einheit 3 | G95: =SUM(E95-D95) -> 0
A96: 19. | B96: März | C96: Donnerstag | G96: {=SUM(E97:E99-D97:D99)} -> 0 | I96: {=SUMPRODUCT(G97:G99*24,H97:H99)} -> 0
C97: Einheit 1 | G97: =SUM(E97-D97) -> 0
C98: Einheit 2 | G98: =SUM(E98-D98) -> 0
C99: Einheit 3 | G99: =SUM(E99-D99) -> 0
A100: 20. | B100: März | C100: Freitag | G100: {=SUM(E101:E103-D101:D103)} -> 0 | I100: {=SUMPRODUCT(G101:G103*24,H101:H103)} -> 0
C101: Einheit 1 | G101: =SUM(E101-D101) -> 0
C102: Einheit 2 | G102: =SUM(E102-D102) -> 0
C103: Einheit 3 | G103: =SUM(E103-D103) -> 0
A104: 21. | B104: März | C104: Samstag | G104: {=SUM(E105:E107-D105:D107)} -> 0 | I104: {=SUMPRODUCT(G105:G107*24,H105:H107)} -> 0
C105: Einheit 1 | G105: =SUM(E105-D105) -> 0
C106: Einheit 2 | G106: =SUM(E106-D106) -> 0
C107: Einheit 3 | G107: =SUM(E107-D107) -> 0
A108: 22. | B108: März | C108: Sonntag | G108: {=SUM(E109:E111-D109:D111)} -> 0 | I108: {=SUMPRODUCT(G109:G111*24,H109:H111)} -> 0
C109: Einheit 1 | G109: =SUM(E109-D109) -> 0
C110: Einheit 2 | G110: =SUM(E110-D110) -> 0
C111: Einheit 3 | G111: =SUM(E111-D111) -> 0
A112: 23. | B112: März | C112: Montag | G112: {=SUM(E113:E115-D113:D115)} -> 0 | I112: {=SUMPRODUCT(G113:G115*24,H113:H115)} -> 0
C113: Einheit 1 | G113: =SUM(E113-D113) -> 0
C114: Einheit 2 | G114: =SUM(E114-D114) -> 0
...

Sheet April
A10: Ehrenamtler/in - Stundenabrechnung
A12: Ehrenamtler/in: | C12: =Gesamtübersicht!C12 -> 0
A13: Adresse: | C13: =Gesamtübersicht!C13 -> 0
A14: Mobil: | C14: =Gesamtübersicht!C14 -> 0
A15: IBAN: | C15: =Gesamtübersicht!C15 -> 0
D19: Monat | E19: Jahr
A20: Abrechnung Ehrenamtspauschale für: | D20: April | E20: 2026
A21: in der Abteilung: | D21: =Gesamtübersicht!C16 -> 0
A23: # | B23: Monat | C23: Tag | D23: Beginn | E23: Ende | F23: Trainingsort | G23: Dauer (Std.) | H23: Stundensatz | I23: Gesamt
A24: 1. | B24: April | C24: Mittwoch | G24: {=SUM(E25:E27-D25:D27)} -> 0 | I24: {=SUMPRODUCT(G25:G27*24,H25:H27)} -> 0
C25: Einheit 1 | G25: =SUM(E25-D25) -> 0
C26: Einheit 2 | G26: =SUM(E26-D26) -> 0
C27: Einheit 3 | G27: =SUM(E27-D27) -> 0
A28: 2. | B28: April | C28: Donnerstag | G28: {=SUM(E29:E31-D29:D31)} -> 0 | I28: {=SUMPRODUCT(G29:G31*24,H29:H31)} -> 0
C29: Einheit 1 | G29: =SUM(E29-D29) -> 0
C30: Einheit 2 | G30: =SUM(E30-D30) -> 0
C31: Einheit 3 | G31: =SUM(E31-D31) -> 0
A32: 3. | B32: April | C32: Freitag | G32: {=SUM(E33:E35-D33:D35)} -> 0 | I32: {=SUMPRODUCT(G33:G35*24,H33:H35)} -> 0
C33: Einheit 1 | G33: =SUM(E33-D33) -> 0
C34: Einheit 2 | G34: =SUM(E34-D34) -> 0
C35: Einheit 3 | G35: =SUM(E35-D35) -> 0
A36: 4. | B36: April | C36: Samstag | G36: {=SUM(E37:E39-D37:D39)} -> 0 | I36: {=SUMPRODUCT(G37:G39*24,H37:H39)} -> 0
C37: Einheit 1 | G37: =SUM(E37-D37) -> 0
C38: Einheit 2 | G38: =SUM(E38-D38) -> 0
C39: Einheit 3 | G39: =SUM(E39-D39) -> 0
A40: 5. | B40: April | C40: Sonntag | G40: {=SUM(E41:E43-D41:D43)} -> 0 | I40: {=SUMPRODUCT(G41:G43*24,H41:H43)} -> 0
C41: Einheit 1 | G41: =SUM(E41-D41) -> 0
C42: Einheit 2 | G42: =SUM(E42-D42) -> 0
C43: Einheit 3 | G43: =SUM(E43-D43) -> 0
A44: 6. | B44: April | C44: Montag | G44: {=SUM(E45:E47-D45:D47)} -> 0 | I44: {=SUMPRODUCT(G45:G47*24,H45:H47)} -> 0
C45: Einheit 1 | G45: =SUM(E45-D45) -> 0
C46: Einheit 2 | G46: =SUM(E46-D46) -> 0
C47: Einheit 3 | G47: =SUM(E47-D47) -> 0
A48: 7. | B48: April | C48: Dienstag | G48: {=SUM(E49:E51-D49:D51)} -> 0 | I48: {=SUMPRODUCT(G49:G51*24,H49:H51)} -> 0
C49: Einheit 1 | G49: =SUM(E49-D49) -> 0
C50: Einheit 2 | G50: =SUM(E50-D50) -> 0
C51: Einheit 3 | G51: =SUM(E51-D51) -> 0
A52: 8. | B52: April | C52: Mittwoch | G52: {=SUM(E53:E55-D53:D55)} -> 0 | I52: {=SUMPRODUCT(G53:G55*24,H53:H55)} -> 0
C53: Einheit 1 | G53: =SUM(E53-D53) -> 0
C54: Einheit 2 | G54: =SUM(E54-D54) -> 0
C55: Einheit 3 | G55: =SUM(E55-D55) -> 0
A56: 9. | B56: April | C56: Donnerstag | G56: {=SUM(E57:E59-D57:D59)} -> 0 | I56: {=SUMPRODUCT(G57:G59*24,H57:H59)} -> 0
C57: Einheit 1 | G57: =SUM(E57-D57) -> 0
C58: Einheit 2 | G58: =SUM(E58-D58) -> 0
C59: Einheit 3 | G59: =SUM(E59-D59) -> 0
A60: 10. | B60: April | C60: Freitag | G60: {=SUM(E61:E63-D61:D63)} -> 0 | I60: {=SUMPRODUCT(G61:G63*24,H61:H63)} -> 0
C61: Einheit 1 | G61: =SUM(E61-D61) -> 0
C62: Einheit 2 | G62: =SUM(E62-D62) -> 0
C63: Einheit 3 | G63: =SUM(E63-D63) -> 0
A64: 11. | B64: April | C64: Samstag | G64: {=SUM(E65:E67-D65:D67)} -> 0 | I64: {=SUMPRODUCT(G65:G67*24,H65:H67)} -> 0
C65: Einheit 1 | G65: =SUM(E65-D65) -> 0
C66: Einheit 2 | G66: =SUM(E66-D66) -> 0
C67: Einheit 3 | G67: =SUM(E67-D67) -> 0
A68: 12. | B68: April | C68: Sonntag | G68: {=SUM(E69:E71-D69:D71)} -> 0 | I68: {=SUMPRODUCT(G69:G71*24,H69:H71)} -> 0
C69: Einheit 1 | G69: =SUM(E69-D69) -> 0
C70: Einheit 2 | G70: =SUM(E70-D70) -> 0
C71: Einheit 3 | G71: =SUM(E71-D71) -> 0
A72: 13. | B72: April | C72: Montag | G72: {=SUM(E73:E75-D73:D75)} -> 0 | I72: {=SUMPRODUCT(G73:G75*24,H73:H75)} -> 0
C73: Einheit 1 | G73: =SUM(E73-D73) -> 0
C74: Einheit 2 | G74: =SUM(E74-D74) -> 0
C75: Einheit 3 | G75: =SUM(E75-D75) -> 0
A76: 14. | B76: April | C76: Dienstag | G76: {=SUM(E77:E79-D77:D79)} -> 0 | I76: {=SUMPRODUCT(G77:G79*24,H77:H79)} -> 0
C77: Einheit 1 | G77: =SUM(E77-D77) -> 0
C78: Einheit 2 | G78: =SUM(E78-D78) -> 0
C79: Einheit 3 | G79: =SUM(E79-D79) -> 0
A80: 15. | B80: April | C80: Mittwoch | G80: {=SUM(E81:E83-D81:D83)} -> 0 | I80: {=SUMPRODUCT(G81:G83*24,H81:H83)} -> 0
C81: Einheit 1 | G81: =SUM(E81-D81) -> 0
C82: Einheit 2 | G82: =SUM(E82-D82) -> 0
C83: Einheit 3 | G83: =SUM(E83-D83) -> 0
A84: 16. | B84: April | C84: Donnerstag | G84: {=SUM(E85:E87-D85:D87)} -> 0 | I84: {=SUMPRODUCT(G85:G87*24,H85:H87)} -> 0
C85: Einheit 1 | G85: =SUM(E85-D85) -> 0
C86: Einheit 2 | G86: =SUM(E86-D86) -> 0
C87: Einheit 3 | G87: =SUM(E87-D87) -> 0
A88: 17. | B88: April | C88: Freitag | G88: {=SUM(E89:E91-D89:D91)} -> 0 | I88: {=SUMPRODUCT(G89:G91*24,H89:H91)} -> 0
C89: Einheit 1 | G89: =SUM(E89-D89) -> 0
C90: Einheit 2 | G90: =SUM(E90-D90) -> 0
C91: Einheit 3 | G91: =SUM(E91-D91) -> 0
A92: 18. | B92: April | C92: Samstag | G92: {=SUM(E93:E95-D93:D95)} -> 0 | I92: {=SUMPRODUCT(G93:G95*24,H93:H95)} -> 0
C93: Einheit 1 | G93: =SUM(E93-D93) -> 0
C94: Einheit 2 | G94: =SUM(E94-D94) -> 0
C95: Einheit 3 | G95: =SUM(E95-D95) -> 0
A96: 19. | B96: April | C96: Sonntag | G96: {=SUM(E97:E99-D97:D99)} -> 0 | I96: {=SUMPRODUCT(G97:G99*24,H97:H99)} -> 0
C97: Einheit 1 | G97: =SUM(E97-D97) -> 0
C98: Einheit 2 | G98: =SUM(E98-D98) -> 0
C99: Einheit 3 | G99: =SUM(E99-D99) -> 0
A100: 20. | B100: April | C100: Montag | G100: {=SUM(E101:E103-D101:D103)} -> 0 | I100: {=SUMPRODUCT(G101:G103*24,H101:H103)} -> 0
C101: Einheit 1 | G101: =SUM(E101-D101) -> 0
C102: Einheit 2 | G102: =SUM(E102-D102) -> 0
C103: Einheit 3 | G103: =SUM(E103-D103) -> 0
A104: 21. | B104: April | C104: Dienstag | G104: {=SUM(E105:E107-D105:D107)} -> 0 | I104: {=SUMPRODUCT(G105:G107*24,H105:H107)} -> 0
C105: Einheit 1 | G105: =SUM(E105-D105) -> 0
C106: Einheit 2 | G106: =SUM(E106-D106) -> 0
C107: Einheit 3 | G107: =SUM(E107-D107) -> 0
A108: 22. | B108: April | C108: Mittwoch | G108: {=SUM(E109:E111-D109:D111)} -> 0 | I108: {=SUMPRODUCT(G109:G111*24,H109:H111)} -> 0
C109: Einheit 1 | G109: =SUM(E109-D109) -> 0
C110: Einheit 2 | G110: =SUM(E110-D110) -> 0
C111: Einheit 3 | G111: =SUM(E111-D111) -> 0
A112: 23. | B112: April | C112: Donnerstag | G112: {=SUM(E113:E115-D113:D115)} -> 0 | I112: {=SUMPRODUCT(G113:G115*24,H113:H115)} -> 0
C113: Einheit 1 | G113: =SUM(E113-D113) -> 0
C114: Einheit 2 | G114: =SUM(E114-D114) -> 0
...

Sheet Mai
A10: Ehrenamtler/in - Stundenabrechnung
A12: Ehrenamtler/in: | C12: =Gesamtübersicht!C12 -> 0
A13: Adresse: | C13: =Gesamtübersicht!C13 -> 0
A14: Mobil: | C14: =Gesamtübersicht!C14 -> 0
A15: IBAN: | C15: =Gesamtübersicht!C15 -> 0
D19: Monat | E19: Jahr
A20: Abrechnung Ehrenamtspauschale für: | D20: Mai | E20: 2026
A21: in der Abteilung: | D21: =Gesamtübersicht!C16 -> 0
A23: # | B23: Monat | C23: Tag | D23: Beginn | E23: Ende | F23: Trainingsort | G23: Dauer (Std.) | H23: Stundensatz | I23: Gesamt
A24: 1. | B24: Mai | C24: Freitag | G24: {=SUM(E25:E27-D25:D27)} -> 0 | I24: {=SUMPRODUCT(G25:G27*24,H25:H27)} -> 0
C25: Einheit 1 | G25: =SUM(E25-D25) -> 0
C26: Einheit 2 | G26: =SUM(E26-D26) -> 0
C27: Einheit 3 | G27: =SUM(E27-D27) -> 0
A28: 2. | B28: Mai | C28: Samstag | G28: {=SUM(E29:E31-D29:D31)} -> 0 | I28: {=SUMPRODUCT(G29:G31*24,H29:H31)} -> 0
C29: Einheit 1 | G29: =SUM(E29-D29) -> 0
C30: Einheit 2 | G30: =SUM(E30-D30) -> 0
C31: Einheit 3 | G31: =SUM(E31-D31) -> 0
A32: 3. | B32: Mai | C32: Sonntag | G32: {=SUM(E33:E35-D33:D35)} -> 0 | I32: {=SUMPRODUCT(G33:G35*24,H33:H35)} -> 0
C33: Einheit 1 | G33: =SUM(E33-D33) -> 0
C34: Einheit 2 | G34: =SUM(E34-D34) -> 0
C35: Einheit 3 | G35: =SUM(E35-D35) -> 0
A36: 4. | B36: Mai | C36: Montag | G36: {=SUM(E37:E39-D37:D39)} -> 0 | I36: {=SUMPRODUCT(G37:G39*24,H37:H39)} -> 0
C37: Einheit 1 | G37: =SUM(E37-D37) -> 0
C38: Einheit 2 | G38: =SUM(E38-D38) -> 0
C39: Einheit 3 | G39: =SUM(E39-D39) -> 0
A40: 5. | B40: Mai | C40: Dienstag | G40: {=SUM(E41:E43-D41:D43)} -> 0 | I40: {=SUMPRODUCT(G41:G43*24,H41:H43)} -> 0
C41: Einheit 1 | G41: =SUM(E41-D41) -> 0
C42: Einheit 2 | G42: =SUM(E42-D42) -> 0
C43: Einheit 3 | G43: =SUM(E43-D43) -> 0
A44: 6. | B44: Mai | C44: Mittwoch | G44: {=SUM(E45:E47-D45:D47)} -> 0 | I44: {=SUMPRODUCT(G45:G47*24,H45:H47)} -> 0
C45: Einheit 1 | G45: =SUM(E45-D45) -> 0
C46: Einheit 2 | G46: =SUM(E46-D46) -> 0
C47: Einheit 3 | G47: =SUM(E47-D47) -> 0
A48: 7. | B48: Mai | C48: Donnerstag | G48: {=SUM(E49:E51-D49:D51)} -> 0 | I48: {=SUMPRODUCT(G49:G51*24,H49:H51)} -> 0
C49: Einheit 1 | G49: =SUM(E49-D49) -> 0
C50: Einheit 2 | G50: =SUM(E50-D50) -> 0
C51: Einheit 3 | G51: =SUM(E51-D51) -> 0
A52: 8. | B52: Mai | C52: Freitag | G52: {=SUM(E53:E55-D53:D55)} -> 0 | I52: {=SUMPRODUCT(G53:G55*24,H53:H55)} -> 0
C53: Einheit 1 | G53: =SUM(E53-D53) -> 0
C54: Einheit 2 | G54: =SUM(E54-D54) -> 0
C55: Einheit 3 | G55: =SUM(E55-D55) -> 0
A56: 9. | B56: Mai | C56: Samstag | G56: {=SUM(E57:E59-D57:D59)} -> 0 | I56: {=SUMPRODUCT(G57:G59*24,H57:H59)} -> 0
C57: Einheit 1 | G57: =SUM(E57-D57) -> 0
C58: Einheit 2 | G58: =SUM(E58-D58) -> 0
C59: Einheit 3 | G59: =SUM(E59-D59) -> 0
A60: 10. | B60: Mai | C60: Sonntag | G60: {=SUM(E61:E63-D61:D63)} -> 0 | I60: {=SUMPRODUCT(G61:G63*24,H61:H63)} -> 0
C61: Einheit 1 | G61: =SUM(E61-D61) -> 0
C62: Einheit 2 | G62: =SUM(E62-D62) -> 0
C63: Einheit 3 | G63: =SUM(E63-D63) -> 0
A64: 11. | B64: Mai | C64: Montag | G64: {=SUM(E65:E67-D65:D67)} -> 0 | I64: {=SUMPRODUCT(G65:G67*24,H65:H67)} -> 0
C65: Einheit 1 | G65: =SUM(E65-D65) -> 0
C66: Einheit 2 | G66: =SUM(E66-D66) -> 0
C67: Einheit 3 | G67: =SUM(E67-D67) -> 0
A68: 12. | B68: Mai | C68: Dienstag | G68: {=SUM(E69:E71-D69:D71)} -> 0 | I68: {=SUMPRODUCT(G69:G71*24,H69:H71)} -> 0
C69: Einheit 1 | G69: =SUM(E69-D69) -> 0
C70: Einheit 2 | G70: =SUM(E70-D70) -> 0
C71: Einheit 3 | G71: =SUM(E71-D71) -> 0
A72: 13. | B72: Mai | C72: Mittwoch | G72: {=SUM(E73:E75-D73:D75)} -> 0 | I72: {=SUMPRODUCT(G73:G75*24,H73:H75)} -> 0
C73: Einheit 1 | G73: =SUM(E73-D73) -> 0
C74: Einheit 2 | G74: =SUM(E74-D74) -> 0
C75: Einheit 3 | G75: =SUM(E75-D75) -> 0
A76: 14. | B76: Mai | C76: Donnerstag | G76: {=SUM(E77:E79-D77:D79)} -> 0 | I76: {=SUMPRODUCT(G77:G79*24,H77:H79)} -> 0
C77: Einheit 1 | G77: =SUM(E77-D77) -> 0
C78: Einheit 2 | G78: =SUM(E78-D78) -> 0
C79: Einheit 3 | G79: =SUM(E79-D79) -> 0
A80: 15. | B80: Mai | C80: Freitag | G80: {=SUM(E81:E83-D81:D83)} -> 0 | I80: {=SUMPRODUCT(G81:G83*24,H81:H83)} -> 0
C81: Einheit 1 | G81: =SUM(E81-D81) -> 0
C82: Einheit 2 | G82: =SUM(E82-D82) -> 0
C83: Einheit 3 | G83: =SUM(E83-D83) -> 0
A84: 16. | B84: Mai | C84: Samstag | G84: {=SUM(E85:E87-D85:D87)} -> 0 | I84: {=SUMPRODUCT(G85:G87*24,H85:H87)} -> 0
C85: Einheit 1 | G85: =SUM(E85-D85) -> 0
C86: Einheit 2 | G86: =SUM(E86-D86) -> 0
C87: Einheit 3 | G87: =SUM(E87-D87) -> 0
A88: 17. | B88: Mai | C88: Sonntag | G88: {=SUM(E89:E91-D89:D91)} -> 0 | I88: {=SUMPRODUCT(G89:G91*24,H89:H91)} -> 0
C89: Einheit 1 | G89: =SUM(E89-D89) -> 0
C90: Einheit 2 | G90: =SUM(E90-D90) -> 0
C91: Einheit 3 | G91: =SUM(E91-D91) -> 0
A92: 18. | B92: Mai | C92: Montag | G92: {=SUM(E93:E95-D93:D95)} -> 0 | I92: {=SUMPRODUCT(G93:G95*24,H93:H95)} -> 0
C93: Einheit 1 | G93: =SUM(E93-D93) -> 0
C94: Einheit 2 | G94: =SUM(E94-D94) -> 0
C95: Einheit 3 | G95: =SUM(E95-D95) -> 0
A96: 19. | B96: Mai | C96: Dienstag | G96: {=SUM(E97:E99-D97:D99)} -> 0 | I96: {=SUMPRODUCT(G97:G99*24,H97:H99)} -> 0
C97: Einheit 1 | G97: =SUM(E97-D97) -> 0
C98: Einheit 2 | G98: =SUM(E98-D98) -> 0
C99: Einheit 3 | G99: =SUM(E99-D99) -> 0
A100: 20. | B100: Mai | C100: Mittwoch | G100: {=SUM(E101:E103-D101:D103)} -> 0 | I100: {=SUMPRODUCT(G101:G103*24,H101:H103)} -> 0
C101: Einheit 1 | G101: =SUM(E101-D101) -> 0
C102: Einheit 2 | G102: =SUM(E102-D102) -> 0
C103: Einheit 3 | G103: =SUM(E103-D103) -> 0
A104: 21. | B104: Mai | C104: Donnerstag | G104: {=SUM(E105:E107-D105:D107)} -> 0 | I104: {=SUMPRODUCT(G105:G107*24,H105:H107)} -> 0
C105: Einheit 1 | G105: =SUM(E105-D105) -> 0
C106: Einheit 2 | G106: =SUM(E106-D106) -> 0
C107: Einheit 3 | G107: =SUM(E107-D107) -> 0
A108: 22. | B108: Mai | C108: Freitag | G108: {=SUM(E109:E111-D109:D111)} -> 0 | I108: {=SUMPRODUCT(G109:G111*24,H109:H111)} -> 0
C109: Einheit 1 | G109: =SUM(E109-D109) -> 0
C110: Einheit 2 | G110: =SUM(E110-D110) -> 0
C111: Einheit 3 | G111: =SUM(E111-D111) -> 0
A112: 23. | B112: Mai | C112: Samstag | G112: {=SUM(E113:E115-D113:D115)} -> 0 | I112: {=SUMPRODUCT(G113:G115*24,H113:H115)} -> 0
C113: Einheit 1 | G113: =SUM(E113-D113) -> 0
C114: Einheit 2 | G114: =SUM(E114-D114) -> 0
...

Sheet Juni
A10: Ehrenamtler/in - Stundenabrechnung
A12: Ehrenamtler/in: | C12: =Gesamtübersicht!C12 -> 0
A13: Adresse: | C13: =Gesamtübersicht!C13 -> 0
A14: Mobil: | C14: =Gesamtübersicht!C14 -> 0
A15: IBAN: | C15: =Gesamtübersicht!C15 -> 0
D19: Monat | E19: Jahr
A20: Abrechnung Ehrenamtspauschale für: | D20: Juni | E20: 2026
A21: in der Abteilung: | D21: =Gesamtübersicht!C16 -> 0
A23: # | B23: Monat | C23: Tag | D23: Beginn | E23: Ende | F23: Trainingsort | G23: Dauer (Std.) | H23: Stundensatz | I23: Gesamt
A24: 1. | B24: Juni | C24: Montag | G24: {=SUM(E25:E27-D25:D27)} -> 0 | I24: {=SUMPRODUCT(G25:G27*24,H25:H27)} -> 0
C25: Einheit 1 | G25: =SUM(E25-D25) -> 0
C26: Einheit 2 | G26: =SUM(E26-D26) -> 0
C27: Einheit 3 | G27: =SUM(E27-D27) -> 0
A28: 2. | B28: Juni | C28: Dienstag | G28: {=SUM(E29:E31-D29:D31)} -> 0 | I28: {=SUMPRODUCT(G29:G31*24,H29:H31)} -> 0
C29: Einheit 1 | G29: =SUM(E29-D29) -> 0
C30: Einheit 2 | G30: =SUM(E30-D30) -> 0
C31: Einheit 3 | G31: =SUM(E31-D31) -> 0
A32: 3. | B32: Juni | C32: Mittwoch | G32: {=SUM(E33:E35-D33:D35)} -> 0 | I32: {=SUMPRODUCT(G33:G35*24,H33:H35)} -> 0
C33: Einheit 1 | G33: =SUM(E33-D33) -> 0
C34: Einheit 2 | G34: =SUM(E34-D34) -> 0
C35: Einheit 3 | G35: =SUM(E35-D35) -> 0
A36: 4. | B36: Juni | C36: Donnerstag | G36: {=SUM(E37:E39-D37:D39)} -> 0 | I36: {=SUMPRODUCT(G37:G39*24,H37:H39)} -> 0
C37: Einheit 1 | G37: =SUM(E37-D37) -> 0
C38: Einheit 2 | G38: =SUM(E38-D38) -> 0
C39: Einheit 3 | G39: =SUM(E39-D39) -> 0
A40: 5. | B40: Juni | C40: Freitag | G40: {=SUM(E41:E43-D41:D43)} -> 0 | I40: {=SUMPRODUCT(G41:G43*24,H41:H43)} -> 0
C41: Einheit 1 | G41: =SUM(E41-D41) -> 0
C42: Einheit 2 | G42: =SUM(E42-D42) -> 0
C43: Einheit 3 | G43: =SUM(E43-D43) -> 0
A44: 6. | B44: Juni | C44: Samstag | G44: {=SUM(E45:E47-D45:D47)} -> 0 | I44: {=SUMPRODUCT(G45:G47*24,H45:H47)} -> 0
C45: Einheit 1 | G45: =SUM(E45-D45) -> 0
C46: Einheit 2 | G46: =SUM(E46-D46) -> 0
C47: Einheit 3 | G47: =SUM(E47-D47) -> 0
A48: 7. | B48: Juni | C48: Sonntag | G48: {=SUM(E49:E51-D49:D51)} -> 0 | I48: {=SUMPRODUCT(G49:G51*24,H49:H51)} -> 0
C49: Einheit 1 | G49: =SUM(E49-D49) -> 0
C50: Einheit 2 | G50: =SUM(E50-D50) -> 0
C51: Einheit 3 | G51: =SUM(E51-D51) -> 0
A52: 8. | B52: Juni | C52: Montag | G52: {=SUM(E53:E55-D53:D55)} -> 0 | I52: {=SUMPRODUCT(G53:G55*24,H53:H55)} -> 0
C53: Einheit 1 | G53: =SUM(E53-D53) -> 0
C54: Einheit 2 | G54: =SUM(E54-D54) -> 0
C55: Einheit 3 | G55: =SUM(E55-D55) -> 0
A56: 9. | B56: Juni | C56: Dienstag | G56: {=SUM(E57:E59-D57:D59)} -> 0 | I56: {=SUMPRODUCT(G57:G59*24,H57:H59)} -> 0
C57: Einheit 1 | G57: =SUM(E57-D57) -> 0
C58: Einheit 2 | G58: =SUM(E58-D58) -> 0
C59: Einheit 3 | G59: =SUM(E59-D59) -> 0
A60: 10. | B60: Juni | C60: Mittwoch | G60: {=SUM(E61:E63-D61:D63)} -> 0 | I60: {=SUMPRODUCT(G61:G63*24,H61:H63)} -> 0
C61: Einheit 1 | G61: =SUM(E61-D61) -> 0
C62: Einheit 2 | G62: =SUM(E62-D62) -> 0
C63: Einheit 3 | G63: =SUM(E63-D63) -> 0
A64: 11. | B64: Juni | C64: Donnerstag | G64: {=SUM(E65:E67-D65:D67)} -> 0 | I64: {=SUMPRODUCT(G65:G67*24,H65:H67)} -> 0
C65: Einheit 1 | G65: =SUM(E65-D65) -> 0
C66: Einheit 2 | G66: =SUM(E66-D66) -> 0
C67: Einheit 3 | G67: =SUM(E67-D67) -> 0
A68: 12. | B68: Juni | C68: Freitag | G68: {=SUM(E69:E71-D69:D71)} -> 0 | I68: {=SUMPRODUCT(G69:G71*24,H69:H71)} -> 0
C69: Einheit 1 | G69: =SUM(E69-D69) -> 0
C70: Einheit 2 | G70: =SUM(E70-D70) -> 0
C71: Einheit 3 | G71: =SUM(E71-D71) -> 0
A72: 13. | B72: Juni | C72: Samstag | G72: {=SUM(E73:E75-D73:D75)} -> 0 | I72: {=SUMPRODUCT(G73:G75*24,H73:H75)} -> 0
C73: Einheit 1 | G73: =SUM(E73-D73) -> 0
C74: Einheit 2 | G74: =SUM(E74-D74) -> 0
C75: Einheit 3 | G75: =SUM(E75-D75) -> 0
A76: 14. | B76: Juni | C76: Sonntag | G76: {=SUM(E77:E79-D77:D79)} -> 0 | I76: {=SUMPRODUCT(G77:G79*24,H77:H79)} -> 0
C77: Einheit 1 | G77: =SUM(E77-D77) -> 0
C78: Einheit 2 | G78: =SUM(E78-D78) -> 0
C79: Einheit 3 | G79: =SUM(E79-D79) -> 0
A80: 15. | B80: Juni | C80: Montag | G80: {=SUM(E81:E83-D81:D83)} -> 0 | I80: {=SUMPRODUCT(G81:G83*24,H81:H83)} -> 0
C81: Einheit 1 | G81: =SUM(E81-D81) -> 0
C82: Einheit 2 | G82: =SUM(E82-D82) -> 0
C83: Einheit 3 | G83: =SUM(E83-D83) -> 0
A84: 16. | B84: Juni | C84: Dienstag | G84: {=SUM(E85:E87-D85:D87)} -> 0 | I84: {=SUMPRODUCT(G85:G87*24,H85:H87)} -> 0
C85: Einheit 1 | G85: =SUM(E85-D85) -> 0
C86: Einheit 2 | G86: =SUM(E86-D86) -> 0
C87: Einheit 3 | G87: =SUM(E87-D87) -> 0
A88: 17. | B88: Juni | C88: Mittwoch | G88: {=SUM(E89:E91-D89:D91)} -> 0 | I88: {=SUMPRODUCT(G89:G91*24,H89:H91)} -> 0
C89: Einheit 1 | G89: =SUM(E89-D89) -> 0
C90: Einheit 2 | G90: =SUM(E90-D90) -> 0
C91: Einheit 3 | G91: =SUM(E91-D91) -> 0
A92: 18. | B92: Juni | C92: Donnerstag | G92: {=SUM(E93:E95-D93:D95)} -> 0 | I92: {=SUMPRODUCT(G93:G95*24,H93:H95)} -> 0
C93: Einheit 1 | G93: =SUM(E93-D93) -> 0
C94: Einheit 2 | G94: =SUM(E94-D94) -> 0
C95: Einheit 3 | G95: =SUM(E95-D95) -> 0
A96: 19. | B96: Juni | C96: Freitag | G96: {=SUM(E97:E99-D97:D99)} -> 0 | I96: {=SUMPRODUCT(G97:G99*24,H97:H99)} -> 0
C97: Einheit 1 | G97: =SUM(E97-D97) -> 0
C98: Einheit 2 | G98: =SUM(E98-D98) -> 0
C99: Einheit 3 | G99: =SUM(E99-D99) -> 0
A100: 20. | B100: Juni | C100: Samstag | G100: {=SUM(E101:E103-D101:D103)} -> 0 | I100: {=SUMPRODUCT(G101:G103*24,H101:H103)} -> 0
C101: Einheit 1 | G101: =SUM(E101-D101) -> 0
C102: Einheit 2 | G102: =SUM(E102-D102) -> 0
C103: Einheit 3 | G103: =SUM(E103-D103) -> 0
A104: 21. | B104: Juni | C104: Sonntag | G104: {=SUM(E105:E107-D105:D107)} -> 0 | I104: {=SUMPRODUCT(G105:G107*24,H105:H107)} -> 0
C105: Einheit 1 | G105: =SUM(E105-D105) -> 0
C106: Einheit 2 | G106: =SUM(E106-D106) -> 0
C107: Einheit 3 | G107: =SUM(E107-D107) -> 0
A108: 22. | B108: Juni | C108: Montag | G108: {=SUM(E109:E111-D109:D111)} -> 0 | I108: {=SUMPRODUCT(G109:G111*24,H109:H111)} -> 0
C109: Einheit 1 | G109: =SUM(E109-D109) -> 0
C110: Einheit 2 | G110: =SUM(E110-D110) -> 0
C111: Einheit 3 | G111: =SUM(E111-D111) -> 0
A112: 23. | B112: Juni | C112: Dienstag | G112: {=SUM(E113:E115-D113:D115)} -> 0 | I112: {=SUMPRODUCT(G113:G115*24,H113:H115)} -> 0
C113: Einheit 1 | G113: =SUM(E113-D113) -> 0
C114: Einheit 2 | G114: =SUM(E114-D114) -> 0
...

Sheet Juli
A10: Ehrenamtler/in - Stundenabrechnung
A12: Ehrenamtler/in: | C12: =Gesamtübersicht!C12 -> 0
A13: Adresse: | C13: =Gesamtübersicht!C13 -> 0
A14: Mobil: | C14: =Gesamtübersicht!C14 -> 0
A15: IBAN: | C15: =Gesamtübersicht!C15 -> 0
D19: Monat | E19: Jahr
A20: Abrechnung Ehrenamtspauschale für: | D20: Juli | E20: 2026
A21: in der Abteilung: | D21: =Gesamtübersicht!C16 -> 0
A23: # | B23: Monat | C23: Tag | D23: Beginn | E23: Ende | F23: Trainingsort | G23: Dauer (Std.) | H23: Stundensatz | I23: Gesamt
A24: 1. | B24: Juli | C24: Mittwoch | G24: {=SUM(E25:E27-D25:D27)} -> 0 | I24: {=SUMPRODUCT(G25:G27*24,H25:H27)} -> 0
C25: Einheit 1 | G25: =SUM(E25-D25) -> 0
C26: Einheit 2 | G26: =SUM(E26-D26) -> 0
C27: Einheit 3 | G27: =SUM(E27-D27) -> 0
A28: 2. | B28: Juli | C28: Donnerstag | G28: {=SUM(E29:E31-D29:D31)} -> 0 | I28: {=SUMPRODUCT(G29:G31*24,H29:H31)} -> 0
C29: Einheit 1 | G29: =SUM(E29-D29) -> 0
C30: Einheit 2 | G30: =SUM(E30-D30) -> 0
C31: Einheit 3 | G31: =SUM(E31-D31) -> 0
A32: 3. | B32: Juli | C32: Freitag | G32: {=SUM(E33:E35-D33:D35)} -> 0 | I32: {=SUMPRODUCT(G33:G35*24,H33:H35)} -> 0
C33: Einheit 1 | G33: =SUM(E33-D33) -> 0
C34: Einheit 2 | G34: =SUM(E34-D34) -> 0
C35: Einheit 3 | G35: =SUM(E35-D35) -> 0
A36: 4. | B36: Juli | C36: Samstag | G36: {=SUM(E37:E39-D37:D39)} -> 0 | I36: {=SUMPRODUCT(G37:G39*24,H37:H39)} -> 0
C37: Einheit 1 | G37: =SUM(E37-D37) -> 0
C38: Einheit 2 | G38: =SUM(E38-D38) -> 0
C39: Einheit 3 | G39: =SUM(E39-D39) -> 0
A40: 5. | B40: Juli | C40: Sonntag | G40: {=SUM(E41:E43-D41:D43)} -> 0 | I40: {=SUMPRODUCT(G41:G43*24,H41:H43)} -> 0
C41: Einheit 1 | G41: =SUM(E41-D41) -> 0
C42: Einheit 2 | G42: =SUM(E42-D42) -> 0
C43: Einheit 3 | G43: =SUM(E43-D43) -> 0
A44: 6. | B44: Juli | C44: Montag | G44: {=SUM(E45:E47-D45:D47)} -> 0 | I44: {=SUMPRODUCT(G45:G47*24,H45:H47)} -> 0
C45: Einheit 1 | G45: =SUM(E45-D45) -> 0
C46: Einheit 2 | G46: =SUM(E46-D46) -> 0
C47: Einheit 3 | G47: =SUM(E47-D47) -> 0
A48: 7. | B48: Juli | C48: Dienstag | G48: {=SUM(E49:E51-D49:D51)} -> 0 | I48: {=SUMPRODUCT(G49:G51*24,H49:H51)} -> 0
C49: Einheit 1 | G49: =SUM(E49-D49) -> 0
C50: Einheit 2 | G50: =SUM(E50-D50) -> 0
C51: Einheit 3 | G51: =SUM(E51-D51) -> 0
A52: 8. | B52: Juli | C52: Mittwoch | G52: {=SUM(E53:E55-D53:D55)} -> 0 | I52: {=SUMPRODUCT(G53:G55*24,H53:H55)} -> 0
C53: Einheit 1 | G53: =SUM(E53-D53) -> 0
C54: Einheit 2 | G54: =SUM(E54-D54) -> 0
C55: Einheit 3 | G55: =SUM(E55-D55) -> 0
A56: 9. | B56: Juli | C56: Donnerstag | G56: {=SUM(E57:E59-D57:D59)} -> 0 | I56: {=SUMPRODUCT(G57:G59*24,H57:H59)} -> 0
C57: Einheit 1 | G57: =SUM(E57-D57) -> 0
C58: Einheit 2 | G58: =SUM(E58-D58) -> 0
C59: Einheit 3 | G59: =SUM(E59-D59) -> 0
A60: 10. | B60: Juli | C60: Freitag | G60: {=SUM(E61:E63-D61:D63)} -> 0 | I60: {=SUMPRODUCT(G61:G63*24,H61:H63)} -> 0
C61: Einheit 1 | G61: =SUM(E61-D61) -> 0
C62: Einheit 2 | G62: =SUM(E62-D62) -> 0
C63: Einheit 3 | G63: =SUM(E63-D63) -> 0
A64: 11. | B64: Juli | C64: Samstag | G64: {=SUM(E65:E67-D65:D67)} -> 0 | I64: {=SUMPRODUCT(G65:G67*24,H65:H67)} -> 0
C65: Einheit 1 | G65: =SUM(E65-D65) -> 0
C66: Einheit 2 | G66: =SUM(E66-D66) -> 0
C67: Einheit 3 | G67: =SUM(E67-D67) -> 0
A68: 12. | B68: Juli | C68: Sonntag | G68: {=SUM(E69:E71-D69:D71)} -> 0 | I68: {=SUMPRODUCT(G69:G71*24,H69:H71)} -> 0
C69: Einheit 1 | G69: =SUM(E69-D69) -> 0
C70: Einheit 2 | G70: =SUM(E70-D70) -> 0
C71: Einheit 3 | G71: =SUM(E71-D71) -> 0
A72: 13. | B72: Juli | C72: Montag | G72: {=SUM(E73:E75-D73:D75)} -> 0 | I72: {=SUMPRODUCT(G73:G75*24,H73:H75)} -> 0
C73: Einheit 1 | G73: =SUM(E73-D73) -> 0
C74: Einheit 2 | G74: =SUM(E74-D74) -> 0
C75: Einheit 3 | G75: =SUM(E75-D75) -> 0
A76: 14. | B76: Juli | C76: Dienstag | G76: {=SUM(E77:E79-D77:D79)} -> 0 | I76: {=SUMPRODUCT(G77:G79*24,H77:H79)} -> 0
C77: Einheit 1 | G77: =SUM(E77-D77) -> 0
C78: Einheit 2 | G78: =SUM(E78-D78) -> 0
C79: Einheit 3 | G79: =SUM(E79-D79) -> 0
A80: 15. | B80: Juli | C80: Mittwoch | G80: {=SUM(E81:E83-D81:D83)} -> 0 | I80: {=SUMPRODUCT(G81:G83*24,H81:H83)} -> 0
C81: Einheit 1 | G81: =SUM(E81-D81) -> 0
C82: Einheit 2 | G82: =SUM(E82-D82) -> 0
C83: Einheit 3 | G83: =SUM(E83-D83) -> 0
A84: 16. | B84: Juli | C84: Donnerstag | G84: {=SUM(E85:E87-D85:D87)} -> 0 | I84: {=SUMPRODUCT(G85:G87*24,H85:H87)} -> 0
C85: Einheit 1 | G85: =SUM(E85-D85) -> 0
C86: Einheit 2 | G86: =SUM(E86-D86) -> 0
C87: Einheit 3 | G87: =SUM(E87-D87) -> 0
A88: 17. | B88: Juli | C88: Freitag | G88: {=SUM(E89:E91-D89:D91)} -> 0 | I88: {=SUMPRODUCT(G89:G91*24,H89:H91)} -> 0
C89: Einheit 1 | G89: =SUM(E89-D89) -> 0
C90: Einheit 2 | G90: =SUM(E90-D90) -> 0
C91: Einheit 3 | G91: =SUM(E91-D91) -> 0
A92: 18. | B92: Juli | C92: Samstag | G92: {=SUM(E93:E95-D93:D95)} -> 0 | I92: {=SUMPRODUCT(G93:G95*24,H93:H95)} -> 0
C93: Einheit 1 | G93: =SUM(E93-D93) -> 0
C94: Einheit 2 | G94: =SUM(E94-D94) -> 0
C95: Einheit 3 | G95: =SUM(E95-D95) -> 0
A96: 19. | B96: Juli | C96: Sonntag | G96: {=SUM(E97:E99-D97:D99)} -> 0 | I96: {=SUMPRODUCT(G97:G99*24,H97:H99)} -> 0
C97: Einheit 1 | G97: =SUM(E97-D97) -> 0
C98: Einheit 2 | G98: =SUM(E98-D98) -> 0
C99: Einheit 3 | G99: =SUM(E99-D99) -> 0
A100: 20. | B100: Juli | C100: Montag | G100: {=SUM(E101:E103-D101:D103)} -> 0 | I100: {=SUMPRODUCT(G101:G103*24,H101:H103)} -> 0
C101: Einheit 1 | G101: =SUM(E101-D101) -> 0
C102: Einheit 2 | G102: =SUM(E102-D102) -> 0
C103: Einheit 3 | G103: =SUM(E103-D103) -> 0
A104: 21. | B104: Juli | C104: Dienstag | G104: {=SUM(E105:E107-D105:D107)} -> 0 | I104: {=SUMPRODUCT(G105:G107*24,H105:H107)} -> 0
C105: Einheit 1 | G105: =SUM(E105-D105) -> 0
C106: Einheit 2 | G106: =SUM(E106-D106) -> 0
C107: Einheit 3 | G107: =SUM(E107-D107) -> 0
A108: 22. | B108: Juli | C108: Mittwoch | G108: {=SUM(E109:E111-D109:D111)} -> 0 | I108: {=SUMPRODUCT(G109:G111*24,H109:H111)} -> 0
C109: Einheit 1 | G109: =SUM(E109-D109) -> 0
C110: Einheit 2 | G110: =SUM(E110-D110) -> 0
C111: Einheit 3 | G111: =SUM(E111-D111) -> 0
A112: 23. | B112: Juli | C112: Donnerstag | G112: {=SUM(E113:E115-D113:D115)} -> 0 | I112: {=SUMPRODUCT(G113:G115*24,H113:H115)} -> 0
C113: Einheit 1 | G113: =SUM(E113-D113) -> 0
C114: Einheit 2 | G114: =SUM(E114-D114) -> 0
...

Sheet August
A10: Ehrenamtler/in - Stundenabrechnung
A12: Ehrenamtler/in: | C12: =Gesamtübersicht!C12 -> 0
A13: Adresse: | C13: =Gesamtübersicht!C13 -> 0
A14: Mobil: | C14: =Gesamtübersicht!C14 -> 0
A15: IBAN: | C15: =Gesamtübersicht!C15 -> 0
D19: Monat | E19: Jahr
A20: Abrechnung Ehrenamtspauschale für: | D20: August | E20: 2026
A21: in der Abteilung: | D21: =Gesamtübersicht!C16 -> 0
A23: # | B23: Monat | C23: Tag | D23: Beginn | E23: Ende | F23: Trainingsort | G23: Dauer (Std.) | H23: Stundensatz | I23: Gesamt
A24: 1. | B24: August | C24: Samstag | G24: {=SUM(E25:E27-D25:D27)} -> 0 | I24: {=SUMPRODUCT(G25:G27*24,H25:H27)} -> 0
C25: Einheit 1 | G25: =SUM(E25-D25) -> 0
C26: Einheit 2 | G26: =SUM(E26-D26) -> 0
C27: Einheit 3 | G27: =SUM(E27-D27) -> 0
A28: 2. | B28: August | C28: Sonntag | G28: {=SUM(E29:E31-D29:D31)} -> 0 | I28: {=SUMPRODUCT(G29:G31*24,H29:H31)} -> 0
C29: Einheit 1 | G29: =SUM(E29-D29) -> 0
C30: Einheit 2 | G30: =SUM(E30-D30) -> 0
C31: Einheit 3 | G31: =SUM(E31-D31) -> 0
A32: 3. | B32: August | C32: Montag | G32: {=SUM(E33:E35-D33:D35)} -> 0 | I32: {=SUMPRODUCT(G33:G35*24,H33:H35)} -> 0
C33: Einheit 1 | G33: =SUM(E33-D33) -> 0
C34: Einheit 2 | G34: =SUM(E34-D34) -> 0
C35: Einheit 3 | G35: =SUM(E35-D35) -> 0
A36: 4. | B36: August | C36: Dienstag | G36: {=SUM(E37:E39-D37:D39)} -> 0 | I36: {=SUMPRODUCT(G37:G39*24,H37:H39)} -> 0
C37: Einheit 1 | G37: =SUM(E37-D37) -> 0
C38: Einheit 2 | G38: =SUM(E38-D38) -> 0
C39: Einheit 3 | G39: =SUM(E39-D39) -> 0
A40: 5. | B40: August | C40: Mittwoch | G40: {=SUM(E41:E43-D41:D43)} -> 0 | I40: {=SUMPRODUCT(G41:G43*24,H41:H43)} -> 0
C41: Einheit 1 | G41: =SUM(E41-D41) -> 0
C42: Einheit 2 | G42: =SUM(E42-D42) -> 0
C43: Einheit 3 | G43: =SUM(E43-D43) -> 0
A44: 6. | B44: August | C44: Donnerstag | G44: {=SUM(E45:E47-D45:D47)} -> 0 | I44: {=SUMPRODUCT(G45:G47*24,H45:H47)} -> 0
C45: Einheit 1 | G45: =SUM(E45-D45) -> 0
C46: Einheit 2 | G46: =SUM(E46-D46) -> 0
C47: Einheit 3 | G47: =SUM(E47-D47) -> 0
A48: 7. | B48: August | C48: Freitag | G48: {=SUM(E49:E51-D49:D51)} -> 0 | I48: {=SUMPRODUCT(G49:G51*24,H49:H51)} -> 0
C49: Einheit 1 | G49: =SUM(E49-D49) -> 0
C50: Einheit 2 | G50: =SUM(E50-D50) -> 0
C51: Einheit 3 | G51: =SUM(E51-D51) -> 0
A52: 8. | B52: August | C52: Samstag | G52: {=SUM(E53:E55-D53:D55)} -> 0 | I52: {=SUMPRODUCT(G53:G55*24,H53:H55)} -> 0
C53: Einheit 1 | G53: =SUM(E53-D53) -> 0
C54: Einheit 2 | G54: =SUM(E54-D54) -> 0
C55: Einheit 3 | G55: =SUM(E55-D55) -> 0
A56: 9. | B56: August | C56: Sonntag | G56: {=SUM(E57:E59-D57:D59)} -> 0 | I56: {=SUMPRODUCT(G57:G59*24,H57:H59)} -> 0
C57: Einheit 1 | G57: =SUM(E57-D57) -> 0
C58: Einheit 2 | G58: =SUM(E58-D58) -> 0
C59: Einheit 3 | G59: =SUM(E59-D59) -> 0
A60: 10. | B60: August | C60: Montag | G60: {=SUM(E61:E63-D61:D63)} -> 0 | I60: {=SUMPRODUCT(G61:G63*24,H61:H63)} -> 0
C61: Einheit 1 | G61: =SUM(E61-D61) -> 0
C62: Einheit 2 | G62: =SUM(E62-D62) -> 0
C63: Einheit 3 | G63: =SUM(E63-D63) -> 0
A64: 11. | B64: August | C64: Dienstag | G64: {=SUM(E65:E67-D65:D67)} -> 0 | I64: {=SUMPRODUCT(G65:G67*24,H65:H67)} -> 0
C65: Einheit 1 | G65: =SUM(E65-D65) -> 0
C66: Einheit 2 | G66: =SUM(E66-D66) -> 0
C67: Einheit 3 | G67: =SUM(E67-D67) -> 0
A68: 12. | B68: August | C68: Mittwoch | G68: {=SUM(E69:E71-D69:D71)} -> 0 | I68: {=SUMPRODUCT(G69:G71*24,H69:H71)} -> 0
C69: Einheit 1 | G69: =SUM(E69-D69) -> 0
C70: Einheit 2 | G70: =SUM(E70-D70) -> 0
C71: Einheit 3 | G71: =SUM(E71-D71) -> 0
A72: 13. | B72: August | C72: Donnerstag | G72: {=SUM(E73:E75-D73:D75)} -> 0 | I72: {=SUMPRODUCT(G73:G75*24,H73:H75)} -> 0
C73: Einheit 1 | G73: =SUM(E73-D73) -> 0
C74: Einheit 2 | G74: =SUM(E74-D74) -> 0
C75: Einheit 3 | G75: =SUM(E75-D75) -> 0
A76: 14. | B76: August | C76: Freitag | G76: {=SUM(E77:E79-D77:D79)} -> 0 | I76: {=SUMPRODUCT(G77:G79*24,H77:H79)} -> 0
C77: Einheit 1 | G77: =SUM(E77-D77) -> 0
C78: Einheit 2 | G78: =SUM(E78-D78) -> 0
C79: Einheit 3 | G79: =SUM(E79-D79) -> 0
A80: 15. | B80: August | C80: Samstag | G80: {=SUM(E81:E83-D81:D83)} -> 0 | I80: {=SUMPRODUCT(G81:G83*24,H81:H83)} -> 0
C81: Einheit 1 | G81: =SUM(E81-D81) -> 0
C82: Einheit 2 | G82: =SUM(E82-D82) -> 0
C83: Einheit 3 | G83: =SUM(E83-D83) -> 0
A84: 16. | B84: August | C84: Sonntag | G84: {=SUM(E85:E87-D85:D87)} -> 0 | I84: {=SUMPRODUCT(G85:G87*24,H85:H87)} -> 0
C85: Einheit 1 | G85: =SUM(E85-D85) -> 0
C86: Einheit 2 | G86: =SUM(E86-D86) -> 0
C87: Einheit 3 | G87: =SUM(E87-D87) -> 0
A88: 17. | B88: August | C88: Montag | G88: {=SUM(E89:E91-D89:D91)} -> 0 | I88: {=SUMPRODUCT(G89:G91*24,H89:H91)} -> 0
C89: Einheit 1 | G89: =SUM(E89-D89) -> 0
C90: Einheit 2 | G90: =SUM(E90-D90) -> 0
C91: Einheit 3 | G91: =SUM(E91-D91) -> 0
A92: 18. | B92: August | C92: Dienstag | G92: {=SUM(E93:E95-D93:D95)} -> 0 | I92: {=SUMPRODUCT(G93:G95*24,H93:H95)} -> 0
C93: Einheit 1 | G93: =SUM(E93-D93) -> 0
C94: Einheit 2 | G94: =SUM(E94-D94) -> 0
C95: Einheit 3 | G95: =SUM(E95-D95) -> 0
A96: 19. | B96: August | C96: Mittwoch | G96: {=SUM(E97:E99-D97:D99)} -> 0 | I96: {=SUMPRODUCT(G97:G99*24,H97:H99)} -> 0
C97: Einheit 1 | G97: =SUM(E97-D97) -> 0
C98: Einheit 2 | G98: =SUM(E98-D98) -> 0
C99: Einheit 3 | G99: =SUM(E99-D99) -> 0
A100: 20. | B100: August | C100: Donnerstag | G100: {=SUM(E101:E103-D101:D103)} -> 0 | I100: {=SUMPRODUCT(G101:G103*24,H101:H103)} -> 0
C101: Einheit 1 | G101: =SUM(E101-D101) -> 0
C102: Einheit 2 | G102: =SUM(E102-D102) -> 0
C103: Einheit 3 | G103: =SUM(E103-D103) -> 0
A104: 21. | B104: August | C104: Freitag | G104: {=SUM(E105:E107-D105:D107)} -> 0 | I104: {=SUMPRODUCT(G105:G107*24,H105:H107)} -> 0
C105: Einheit 1 | G105: =SUM(E105-D105) -> 0
C106: Einheit 2 | G106: =SUM(E106-D106) -> 0
C107: Einheit 3 | G107: =SUM(E107-D107) -> 0
A108: 22. | B108: August | C108: Samstag | G108: {=SUM(E109:E111-D109:D111)} -> 0 | I108: {=SUMPRODUCT(G109:G111*24,H109:H111)} -> 0
C109: Einheit 1 | G109: =SUM(E109-D109) -> 0
C110: Einheit 2 | G110: =SUM(E110-D110) -> 0
C111: Einheit 3 | G111: =SUM(E111-D111) -> 0
A112: 23. | B112: August | C112: Sonntag | G112: {=SUM(E113:E115-D113:D115)} -> 0 | I112: {=SUMPRODUCT(G113:G115*24,H113:H115)} -> 0
C113: Einheit 1 | G113: =SUM(E113-D113) -> 0
C114: Einheit 2 | G114: =SUM(E114-D114) -> 0
...

Sheet September
A10: Ehrenamtler/in - Stundenabrechnung
A12: Ehrenamtler/in: | C12: =Gesamtübersicht!C12 -> 0
A13: Adresse: | C13: =Gesamtübersicht!C13 -> 0
A14: Mobil: | C14: =Gesamtübersicht!C14 -> 0
A15: IBAN: | C15: =Gesamtübersicht!C15 -> 0
D19: Monat | E19: Jahr
A20: Abrechnung Ehrenamtspauschale für: | D20: September | E20: 2026
A21: in der Abteilung: | D21: =Gesamtübersicht!C16 -> 0
A23: # | B23: Monat | C23: Tag | D23: Beginn | E23: Ende | F23: Trainingsort | G23: Dauer (Std.) | H23: Stundensatz | I23: Gesamt
A24: 1. | B24: September | C24: Dienstag | G24: {=SUM(E25:E27-D25:D27)} -> 0 | I24: {=SUMPRODUCT(G25:G27*24,H25:H27)} -> 0
C25: Einheit 1 | G25: =SUM(E25-D25) -> 0
C26: Einheit 2 | G26: =SUM(E26-D26) -> 0
C27: Einheit 3 | G27: =SUM(E27-D27) -> 0
A28: 2. | B28: September | C28: Mittwoch | G28: {=SUM(E29:E31-D29:D31)} -> 0 | I28: {=SUMPRODUCT(G29:G31*24,H29:H31)} -> 0
C29: Einheit 1 | G29: =SUM(E29-D29) -> 0
C30: Einheit 2 | G30: =SUM(E30-D30) -> 0
C31: Einheit 3 | G31: =SUM(E31-D31) -> 0
A32: 3. | B32: September | C32: Donnerstag | G32: {=SUM(E33:E35-D33:D35)} -> 0 | I32: {=SUMPRODUCT(G33:G35*24,H33:H35)} -> 0
C33: Einheit 1 | G33: =SUM(E33-D33) -> 0
C34: Einheit 2 | G34: =SUM(E34-D34) -> 0
C35: Einheit 3 | G35: =SUM(E35-D35) -> 0
A36: 4. | B36: September | C36: Freitag | G36: {=SUM(E37:E39-D37:D39)} -> 0 | I36: {=SUMPRODUCT(G37:G39*24,H37:H39)} -> 0
C37: Einheit 1 | G37: =SUM(E37-D37) -> 0
C38: Einheit 2 | G38: =SUM(E38-D38) -> 0
C39: Einheit 3 | G39: =SUM(E39-D39) -> 0
A40: 5. | B40: September | C40: Samstag | G40: {=SUM(E41:E43-D41:D43)} -> 0 | I40: {=SUMPRODUCT(G41:G43*24,H41:H43)} -> 0
C41: Einheit 1 | G41: =SUM(E41-D41) -> 0
C42: Einheit 2 | G42: =SUM(E42-D42) -> 0
C43: Einheit 3 | G43: =SUM(E43-D43) -> 0
A44: 6. | B44: September | C44: Sonntag | G44: {=SUM(E45:E47-D45:D47)} -> 0 | I44: {=SUMPRODUCT(G45:G47*24,H45:H47)} -> 0
C45: Einheit 1 | G45: =SUM(E45-D45) -> 0
C46: Einheit 2 | G46: =SUM(E46-D46) -> 0
C47: Einheit 3 | G47: =SUM(E47-D47) -> 0
A48: 7. | B48: September | C48: Montag | G48: {=SUM(E49:E51-D49:D51)} -> 0 | I48: {=SUMPRODUCT(G49:G51*24,H49:H51)} -> 0
C49: Einheit 1 | G49: =SUM(E49-D49) -> 0
C50: Einheit 2 | G50: =SUM(E50-D50) -> 0
C51: Einheit 3 | G51: =SUM(E51-D51) -> 0
A52: 8. | B52: September | C52: Dienstag | G52: {=SUM(E53:E55-D53:D55)} -> 0 | I52: {=SUMPRODUCT(G53:G55*24,H53:H55)} -> 0
C53: Einheit 1 | G53: =SUM(E53-D53) -> 0
C54: Einheit 2 | G54: =SUM(E54-D54) -> 0
C55: Einheit 3 | G55: =SUM(E55-D55) -> 0
A56: 9. | B56: September | C56: Mittwoch | G56: {=SUM(E57:E59-D57:D59)} -> 0 | I56: {=SUMPRODUCT(G57:G59*24,H57:H59)} -> 0
C57: Einheit 1 | G57: =SUM(E57-D57) -> 0
C58: Einheit 2 | G58: =SUM(E58-D58) -> 0
C59: Einheit 3 | G59: =SUM(E59-D59) -> 0
A60: 10. | B60: September | C60: Donnerstag | G60: {=SUM(E61:E63-D61:D63)} -> 0 | I60: {=SUMPRODUCT(G61:G63*24,H61:H63)} -> 0
C61: Einheit 1 | G61: =SUM(E61-D61) -> 0
C62: Einheit 2 | G62: =SUM(E62-D62) -> 0
C63: Einheit 3 | G63: =SUM(E63-D63) -> 0
A64: 11. | B64: September | C64: Freitag | G64: {=SUM(E65:E67-D65:D67)} -> 0 | I64: {=SUMPRODUCT(G65:G67*24,H65:H67)} -> 0
C65: Einheit 1 | G65: =SUM(E65-D65) -> 0
C66: Einheit 2 | G66: =SUM(E66-D66) -> 0
C67: Einheit 3 | G67: =SUM(E67-D67) -> 0
A68: 12. | B68: September | C68: Samstag | G68: {=SUM(E69:E71-D69:D71)} -> 0 | I68: {=SUMPRODUCT(G69:G71*24,H69:H71)} -> 0
C69: Einheit 1 | G69: =SUM(E69-D69) -> 0
C70: Einheit 2 | G70: =SUM(E70-D70) -> 0
C71: Einheit 3 | G71: =SUM(E71-D71) -> 0
A72: 13. | B72: September | C72: Sonntag | G72: {=SUM(E73:E75-D73:D75)} -> 0 | I72: {=SUMPRODUCT(G73:G75*24,H73:H75)} -> 0
C73: Einheit 1 | G73: =SUM(E73-D73) -> 0
C74: Einheit 2 | G74: =SUM(E74-D74) -> 0
C75: Einheit 3 | G75: =SUM(E75-D75) -> 0
A76: 14. | B76: September | C76: Montag | G76: {=SUM(E77:E79-D77:D79)} -> 0 | I76: {=SUMPRODUCT(G77:G79*24,H77:H79)} -> 0
C77: Einheit 1 | G77: =SUM(E77-D77) -> 0
C78: Einheit 2 | G78: =SUM(E78-D78) -> 0
C79: Einheit 3 | G79: =SUM(E79-D79) -> 0
A80: 15. | B80: September | C80: Dienstag | G80: {=SUM(E81:E83-D81:D83)} -> 0 | I80: {=SUMPRODUCT(G81:G83*24,H81:H83)} -> 0
C81: Einheit 1 | G81: =SUM(E81-D81) -> 0
C82: Einheit 2 | G82: =SUM(E82-D82) -> 0
C83: Einheit 3 | G83: =SUM(E83-D83) -> 0
A84: 16. | B84: September | C84: Mittwoch | G84: {=SUM(E85:E87-D85:D87)} -> 0 | I84: {=SUMPRODUCT(G85:G87*24,H85:H87)} -> 0
C85: Einheit 1 | G85: =SUM(E85-D85) -> 0
C86: Einheit 2 | G86: =SUM(E86-D86) -> 0
C87: Einheit 3 | G87: =SUM(E87-D87) -> 0
A88: 17. | B88: September | C88: Donnerstag | G88: {=SUM(E89:E91-D89:D91)} -> 0 | I88: {=SUMPRODUCT(G89:G91*24,H89:H91)} -> 0
C89: Einheit 1 | G89: =SUM(E89-D89) -> 0
C90: Einheit 2 | G90: =SUM(E90-D90) -> 0
C91: Einheit 3 | G91: =SUM(E91-D91) -> 0
A92: 18. | B92: September | C92: Freitag | G92: {=SUM(E93:E95-D93:D95)} -> 0 | I92: {=SUMPRODUCT(G93:G95*24,H93:H95)} -> 0
C93: Einheit 1 | G93: =SUM(E93-D93) -> 0
C94: Einheit 2 | G94: =SUM(E94-D94) -> 0
C95: Einheit 3 | G95: =SUM(E95-D95) -> 0
A96: 19. | B96: September | C96: Samstag | G96: {=SUM(E97:E99-D97:D99)} -> 0 | I96: {=SUMPRODUCT(G97:G99*24,H97:H99)} -> 0
C97: Einheit 1 | G97: =SUM(E97-D97) -> 0
C98: Einheit 2 | G98: =SUM(E98-D98) -> 0
C99: Einheit 3 | G99: =SUM(E99-D99) -> 0
A100: 20. | B100: September | C100: Sonntag | G100: {=SUM(E101:E103-D101:D103)} -> 0 | I100: {=SUMPRODUCT(G101:G103*24,H101:H103)} -> 0
C101: Einheit 1 | G101: =SUM(E101-D101) -> 0
C102: Einheit 2 | G102: =SUM(E102-D102) -> 0
C103: Einheit 3 | G103: =SUM(E103-D103) -> 0
A104: 21. | B104: September | C104: Montag | G104: {=SUM(E105:E107-D105:D107)} -> 0 | I104: {=SUMPRODUCT(G105:G107*24,H105:H107)} -> 0
C105: Einheit 1 | G105: =SUM(E105-D105) -> 0
C106: Einheit 2 | G106: =SUM(E106-D106) -> 0
C107: Einheit 3 | G107: =SUM(E107-D107) -> 0
A108: 22. | B108: September | C108: Dienstag | G108: {=SUM(E109:E111-D109:D111)} -> 0 | I108: {=SUMPRODUCT(G109:G111*24,H109:H111)} -> 0
C109: Einheit 1 | G109: =SUM(E109-D109) -> 0
C110: Einheit 2 | G110: =SUM(E110-D110) -> 0
C111: Einheit 3 | G111: =SUM(E111-D111) -> 0
A112: 23. | B112: September | C112: Mittwoch | G112: {=SUM(E113:E115-D113:D115)} -> 0 | I112: {=SUMPRODUCT(G113:G115*24,H113:H115)} -> 0
C113: Einheit 1 | G113: =SUM(E113-D113) -> 0
C114: Einheit 2 | G114: =SUM(E114-D114) -> 0
...

Sheet Oktober
A10: Ehrenamtler/in - Stundenabrechnung
A12: Ehrenamtler/in: | C12: =Gesamtübersicht!C12 -> 0
A13: Adresse: | C13: =Gesamtübersicht!C13 -> 0
A14: Mobil: | C14: =Gesamtübersicht!C14 -> 0
A15: IBAN: | C15: =Gesamtübersicht!C15 -> 0
D19: Monat | E19: Jahr
A20: Abrechnung Ehrenamtspauschale für: | D20: Oktober | E20: 2026
A21: in der Abteilung: | D21: =Gesamtübersicht!C16 -> 0
A23: # | B23: Monat | C23: Tag | D23: Beginn | E23: Ende | F23: Trainingsort | G23: Dauer (Std.) | H23: Stundensatz | I23: Gesamt
A24: 1. | B24: Oktober | C24: Donnerstag | G24: {=SUM(E25:E27-D25:D27)} -> 0 | I24: {=SUMPRODUCT(G25:G27*24,H25:H27)} -> 0
C25: Einheit 1 | G25: =SUM(E25-D25) -> 0
C26: Einheit 2 | G26: =SUM(E26-D26) -> 0
C27: Einheit 3 | G27: =SUM(E27-D27) -> 0
A28: 2. | B28: Oktober | C28: Freitag | G28: {=SUM(E29:E31-D29:D31)} -> 0 | I28: {=SUMPRODUCT(G29:G31*24,H29:H31)} -> 0
C29: Einheit 1 | G29: =SUM(E29-D29) -> 0
C30: Einheit 2 | G30: =SUM(E30-D30) -> 0
C31: Einheit 3 | G31: =SUM(E31-D31) -> 0
A32: 3. | B32: Oktober | C32: Samstag | G32: {=SUM(E33:E35-D33:D35)} -> 0 | I32: {=SUMPRODUCT(G33:G35*24,H33:H35)} -> 0
C33: Einheit 1 | G33: =SUM(E33-D33) -> 0
C34: Einheit 2 | G34: =SUM(E34-D34) -> 0
C35: Einheit 3 | G35: =SUM(E35-D35) -> 0
A36: 4. | B36: Oktober | C36: Sonntag | G36: {=SUM(E37:E39-D37:D39)} -> 0 | I36: {=SUMPRODUCT(G37:G39*24,H37:H39)} -> 0
C37: Einheit 1 | G37: =SUM(E37-D37) -> 0
C38: Einheit 2 | G38: =SUM(E38-D38) -> 0
C39: Einheit 3 | G39: =SUM(E39-D39) -> 0
A40: 5. | B40: Oktober | C40: Montag | G40: {=SUM(E41:E43-D41:D43)} -> 0 | I40: {=SUMPRODUCT(G41:G43*24,H41:H43)} -> 0
C41: Einheit 1 | G41: =SUM(E41-D41) -> 0
C42: Einheit 2 | G42: =SUM(E42-D42) -> 0
C43: Einheit 3 | G43: =SUM(E43-D43) -> 0
A44: 6. | B44: Oktober | C44: Dienstag | G44: {=SUM(E45:E47-D45:D47)} -> 0 | I44: {=SUMPRODUCT(G45:G47*24,H45:H47)} -> 0
C45: Einheit 1 | G45: =SUM(E45-D45) -> 0
C46: Einheit 2 | G46: =SUM(E46-D46) -> 0
C47: Einheit 3 | G47: =SUM(E47-D47) -> 0
A48: 7. | B48: Oktober | C48: Mittwoch | G48: {=SUM(E49:E51-D49:D51)} -> 0 | I48: {=SUMPRODUCT(G49:G51*24,H49:H51)} -> 0
C49: Einheit 1 | G49: =SUM(E49-D49) -> 0
C50: Einheit 2 | G50: =SUM(E50-D50) -> 0
C51: Einheit 3 | G51: =SUM(E51-D51) -> 0
A52: 8. | B52: Oktober | C52: Donnerstag | G52: {=SUM(E53:E55-D53:D55)} -> 0 | I52: {=SUMPRODUCT(G53:G55*24,H53:H55)} -> 0
C53: Einheit 1 | G53: =SUM(E53-D53) -> 0
C54: Einheit 2 | G54: =SUM(E54-D54) -> 0
C55: Einheit 3 | G55: =SUM(E55-D55) -> 0
A56: 9. | B56: Oktober | C56: Freitag | G56: {=SUM(E57:E59-D57:D59)} -> 0 | I56: {=SUMPRODUCT(G57:G59*24,H57:H59)} -> 0
C57: Einheit 1 | G57: =SUM(E57-D57) -> 0
C58: Einheit 2 | G58: =SUM(E58-D58) -> 0
C59: Einheit 3 | G59: =SUM(E59-D59) -> 0
A60: 10. | B60: Oktober | C60: Samstag | G60: {=SUM(E61:E63-D61:D63)} -> 0 | I60: {=SUMPRODUCT(G61:G63*24,H61:H63)} -> 0
C61: Einheit 1 | G61: =SUM(E61-D61) -> 0
C62: Einheit 2 | G62: =SUM(E62-D62) -> 0
C63: Einheit 3 | G63: =SUM(E63-D63) -> 0
A64: 11. | B64: Oktober | C64: Sonntag | G64: {=SUM(E65:E67-D65:D67)} -> 0 | I64: {=SUMPRODUCT(G65:G67*24,H65:H67)} -> 0
C65: Einheit 1 | G65: =SUM(E65-D65) -> 0
C66: Einheit 2 | G66: =SUM(E66-D66) -> 0
C67: Einheit 3 | G67: =SUM(E67-D67) -> 0
A68: 12. | B68: Oktober | C68: Montag | G68: {=SUM(E69:E71-D69:D71)} -> 0 | I68: {=SUMPRODUCT(G69:G71*24,H69:H71)} -> 0
C69: Einheit 1 | G69: =SUM(E69-D69) -> 0
C70: Einheit 2 | G70: =SUM(E70-D70) -> 0
C71: Einheit 3 | G71: =SUM(E71-D71) -> 0
A72: 13. | B72: Oktober | C72: Dienstag | G72: {=SUM(E73:E75-D73:D75)} -> 0 | I72: {=SUMPRODUCT(G73:G75*24,H73:H75)} -> 0
C73: Einheit 1 | G73: =SUM(E73-D73) -> 0
C74: Einheit 2 | G74: =SUM(E74-D74) -> 0
C75: Einheit 3 | G75: =SUM(E75-D75) -> 0
A76: 14. | B76: Oktober | C76: Mittwoch | G76: {=SUM(E77:E79-D77:D79)} -> 0 | I76: {=SUMPRODUCT(G77:G79*24,H77:H79)} -> 0
C77: Einheit 1 | G77: =SUM(E77-D77) -> 0
C78: Einheit 2 | G78: =SUM(E78-D78) -> 0
C79: Einheit 3 | G79: =SUM(E79-D79) -> 0
A80: 15. | B80: Oktober | C80: Donnerstag | G80: {=SUM(E81:E83-D81:D83)} -> 0 | I80: {=SUMPRODUCT(G81:G83*24,H81:H83)} -> 0
C81: Einheit 1 | G81: =SUM(E81-D81) -> 0
C82: Einheit 2 | G82: =SUM(E82-D82) -> 0
C83: Einheit 3 | G83: =SUM(E83-D83) -> 0
A84: 16. | B84: Oktober | C84: Freitag | G84: {=SUM(E85:E87-D85:D87)} -> 0 | I84: {=SUMPRODUCT(G85:G87*24,H85:H87)} -> 0
C85: Einheit 1 | G85: =SUM(E85-D85) -> 0
C86: Einheit 2 | G86: =SUM(E86-D86) -> 0
C87: Einheit 3 | G87: =SUM(E87-D87) -> 0
A88: 17. | B88: Oktober | C88: Samstag | G88: {=SUM(E89:E91-D89:D91)} -> 0 | I88: {=SUMPRODUCT(G89:G91*24,H89:H91)} -> 0
C89: Einheit 1 | G89: =SUM(E89-D89) -> 0
C90: Einheit 2 | G90: =SUM(E90-D90) -> 0
C91: Einheit 3 | G91: =SUM(E91-D91) -> 0
A92: 18. | B92: Oktober | C92: Sonntag | G92: {=SUM(E93:E95-D93:D95)} -> 0 | I92: {=SUMPRODUCT(G93:G95*24,H93:H95)} -> 0
C93: Einheit 1 | G93: =SUM(E93-D93) -> 0
C94: Einheit 2 | G94: =SUM(E94-D94) -> 0
C95: Einheit 3 | G95: =SUM(E95-D95) -> 0
A96: 19. | B96: Oktober | C96: Montag | G96: {=SUM(E97:E99-D97:D99)} -> 0 | I96: {=SUMPRODUCT(G97:G99*24,H97:H99)} -> 0
C97: Einheit 1 | G97: =SUM(E97-D97) -> 0
C98: Einheit 2 | G98: =SUM(E98-D98) -> 0
C99: Einheit 3 | G99: =SUM(E99-D99) -> 0
A100: 20. | B100: Oktober | C100: Dienstag | G100: {=SUM(E101:E103-D101:D103)} -> 0 | I100: {=SUMPRODUCT(G101:G103*24,H101:H103)} -> 0
C101: Einheit 1 | G101: =SUM(E101-D101) -> 0
C102: Einheit 2 | G102: =SUM(E102-D102) -> 0
C103: Einheit 3 | G103: =SUM(E103-D103) -> 0
A104: 21. | B104: Oktober | C104: Mittwoch | G104: {=SUM(E105:E107-D105:D107)} -> 0 | I104: {=SUMPRODUCT(G105:G107*24,H105:H107)} -> 0
C105: Einheit 1 | G105: =SUM(E105-D105) -> 0
C106: Einheit 2 | G106: =SUM(E106-D106) -> 0
C107: Einheit 3 | G107: =SUM(E107-D107) -> 0
A108: 22. | B108: Oktober | C108: Donnerstag | G108: {=SUM(E109:E111-D109:D111)} -> 0 | I108: {=SUMPRODUCT(G109:G111*24,H109:H111)} -> 0
C109: Einheit 1 | G109: =SUM(E109-D109) -> 0
C110: Einheit 2 | G110: =SUM(E110-D110) -> 0
C111: Einheit 3 | G111: =SUM(E111-D111) -> 0
A112: 23. | B112: Oktober | C112: Freitag | G112: {=SUM(E113:E115-D113:D115)} -> 0 | I112: {=SUMPRODUCT(G113:G115*24,H113:H115)} -> 0
C113: Einheit 1 | G113: =SUM(E113-D113) -> 0
C114: Einheit 2 | G114: =SUM(E114-D114) -> 0
...

Sheet November
A10: Ehrenamtler/in - Stundenabrechnung
A12: Ehrenamtler/in: | C12: =Gesamtübersicht!C12 -> 0
A13: Adresse: | C13: =Gesamtübersicht!C13 -> 0
A14: Mobil: | C14: =Gesamtübersicht!C14 -> 0
A15: IBAN: | C15: =Gesamtübersicht!C15 -> 0
D19: Monat | E19: Jahr
A20: Abrechnung Ehrenamtspauschale für: | D20: November | E20: 2026
A21: in der Abteilung: | D21: =Gesamtübersicht!C16 -> 0
A23: # | B23: Monat | C23: Tag | D23: Start | E23: Ende | F23: Trainingsort | G23: Dauer (Std.) | H23: Stundensatz | I23: Gesamt
A24: 1. | B24: November | C24: Sonntag | G24: {=SUM(E25:E27-D25:D27)} -> 0 | I24: {=SUMPRODUCT(G25:G27*24,H25:H27)} -> 0
C25: Einheit 1 | G25: =SUM(E25-D25) -> 0
C26: Einheit 2 | G26: =SUM(E26-D26) -> 0
C27: Einheit 3 | G27: =SUM(E27-D27) -> 0
A28: 2. | B28: November | C28: Montag | G28: {=SUM(E29:E31-D29:D31)} -> 0 | I28: {=SUMPRODUCT(G29:G31*24,H29:H31)} -> 0
C29: Einheit 1 | G29: =SUM(E29-D29) -> 0
C30: Einheit 2 | G30: =SUM(E30-D30) -> 0
C31: Einheit 3 | G31: =SUM(E31-D31) -> 0
A32: 3. | B32: November | C32: Dienstag | G32: {=SUM(E33:E35-D33:D35)} -> 0 | I32: {=SUMPRODUCT(G33:G35*24,H33:H35)} -> 0
C33: Einheit 1 | G33: =SUM(E33-D33) -> 0
C34: Einheit 2 | G34: =SUM(E34-D34) -> 0
C35: Einheit 3 | G35: =SUM(E35-D35) -> 0
A36: 4. | B36: November | C36: Mittwoch | G36: {=SUM(E37:E39-D37:D39)} -> 0 | I36: {=SUMPRODUCT(G37:G39*24,H37:H39)} -> 0
C37: Einheit 1 | G37: =SUM(E37-D37) -> 0
C38: Einheit 2 | G38: =SUM(E38-D38) -> 0
C39: Einheit 3 | G39: =SUM(E39-D39) -> 0
A40: 5. | B40: November | C40: Donnerstag | G40: {=SUM(E41:E43-D41:D43)} -> 0 | I40: {=SUMPRODUCT(G41:G43*24,H41:H43)} -> 0
C41: Einheit 1 | G41: =SUM(E41-D41) -> 0
C42: Einheit 2 | G42: =SUM(E42-D42) -> 0
C43: Einheit 3 | G43: =SUM(E43-D43) -> 0
A44: 6. | B44: November | C44: Freitag | G44: {=SUM(E45:E47-D45:D47)} -> 0 | I44: {=SUMPRODUCT(G45:G47*24,H45:H47)} -> 0
C45: Einheit 1 | G45: =SUM(E45-D45) -> 0
C46: Einheit 2 | G46: =SUM(E46-D46) -> 0
C47: Einheit 3 | G47: =SUM(E47-D47) -> 0
A48: 7. | B48: November | C48: Samstag | G48: {=SUM(E49:E51-D49:D51)} -> 0 | I48: {=SUMPRODUCT(G49:G51*24,H49:H51)} -> 0
C49: Einheit 1 | G49: =SUM(E49-D49) -> 0
C50: Einheit 2 | G50: =SUM(E50-D50) -> 0
C51: Einheit 3 | G51: =SUM(E51-D51) -> 0
A52: 8. | B52: November | C52: Sonntag | G52: {=SUM(E53:E55-D53:D55)} -> 0 | I52: {=SUMPRODUCT(G53:G55*24,H53:H55)} -> 0
C53: Einheit 1 | G53: =SUM(E53-D53) -> 0
C54: Einheit 2 | G54: =SUM(E54-D54) -> 0
C55: Einheit 3 | G55: =SUM(E55-D55) -> 0
A56: 9. | B56: November | C56: Montag | G56: {=SUM(E57:E59-D57:D59)} -> 0 | I56: {=SUMPRODUCT(G57:G59*24,H57:H59)} -> 0
C57: Einheit 1 | G57: =SUM(E57-D57) -> 0
C58: Einheit 2 | G58: =SUM(E58-D58) -> 0
C59: Einheit 3 | G59: =SUM(E59-D59) -> 0
A60: 10. | B60: November | C60: Dienstag | G60: {=SUM(E61:E63-D61:D63)} -> 0 | I60: {=SUMPRODUCT(G61:G63*24,H61:H63)} -> 0
C61: Einheit 1 | G61: =SUM(E61-D61) -> 0
C62: Einheit 2 | G62: =SUM(E62-D62) -> 0
C63: Einheit 3 | G63: =SUM(E63-D63) -> 0
A64: 11. | B64: November | C64: Mittwoch | G64: {=SUM(E65:E67-D65:D67)} -> 0 | I64: {=SUMPRODUCT(G65:G67*24,H65:H67)} -> 0
C65: Einheit 1 | G65: =SUM(E65-D65) -> 0
C66: Einheit 2 | G66: =SUM(E66-D66) -> 0
C67: Einheit 3 | G67: =SUM(E67-D67) -> 0
A68: 12. | B68: November | C68: Donnerstag | G68: {=SUM(E69:E71-D69:D71)} -> 0 | I68: {=SUMPRODUCT(G69:G71*24,H69:H71)} -> 0
C69: Einheit 1 | G69: =SUM(E69-D69) -> 0
C70: Einheit 2 | G70: =SUM(E70-D70) -> 0
C71: Einheit 3 | G71: =SUM(E71-D71) -> 0
A72: 13. | B72: November | C72: Freitag | G72: {=SUM(E73:E75-D73:D75)} -> 0 | I72: {=SUMPRODUCT(G73:G75*24,H73:H75)} -> 0
C73: Einheit 1 | G73: =SUM(E73-D73) -> 0
C74: Einheit 2 | G74: =SUM(E74-D74) -> 0
C75: Einheit 3 | G75: =SUM(E75-D75) -> 0
A76: 14. | B76: November | C76: Samstag | G76: {=SUM(E77:E79-D77:D79)} -> 0 | I76: {=SUMPRODUCT(G77:G79*24,H77:H79)} -> 0
C77: Einheit 1 | G77: =SUM(E77-D77) -> 0
C78: Einheit 2 | G78: =SUM(E78-D78) -> 0
C79: Einheit 3 | G79: =SUM(E79-D79) -> 0
A80: 15. | B80: November | C80: Sonntag | G80: {=SUM(E81:E83-D81:D83)} -> 0 | I80: {=SUMPRODUCT(G81:G83*24,H81:H83)} -> 0
C81: Einheit 1 | G81: =SUM(E81-D81) -> 0
C82: Einheit 2 | G82: =SUM(E82-D82) -> 0
C83: Einheit 3 | G83: =SUM(E83-D83) -> 0
A84: 16. | B84: November | C84: Montag | G84: {=SUM(E85:E87-D85:D87)} -> 0 | I84: {=SUMPRODUCT(G85:G87*24,H85:H87)} -> 0
C85: Einheit 1 | G85: =SUM(E85-D85) -> 0
C86: Einheit 2 | G86: =SUM(E86-D86) -> 0
C87: Einheit 3 | G87: =SUM(E87-D87) -> 0
A88: 17. | B88: November | C88: Dienstag | G88: {=SUM(E89:E91-D89:D91)} -> 0 | I88: {=SUMPRODUCT(G89:G91*24,H89:H91)} -> 0
C89: Einheit 1 | G89: =SUM(E89-D89) -> 0
C90: Einheit 2 | G90: =SUM(E90-D90) -> 0
C91: Einheit 3 | G91: =SUM(E91-D91) -> 0
A92: 18. | B92: November | C92: Mittwoch | G92: {=SUM(E93:E95-D93:D95)} -> 0 | I92: {=SUMPRODUCT(G93:G95*24,H93:H95)} -> 0
C93: Einheit 1 | G93: =SUM(E93-D93) -> 0
C94: Einheit 2 | G94: =SUM(E94-D94) -> 0
C95: Einheit 3 | G95: =SUM(E95-D95) -> 0
A96: 19. | B96: November | C96: Donnerstag | G96: {=SUM(E97:E99-D97:D99)} -> 0 | I96: {=SUMPRODUCT(G97:G99*24,H97:H99)} -> 0
C97: Einheit 1 | G97: =SUM(E97-D97) -> 0
C98: Einheit 2 | G98: =SUM(E98-D98) -> 0
C99: Einheit 3 | G99: =SUM(E99-D99) -> 0
A100: 20. | B100: November | C100: Freitag | G100: {=SUM(E101:E103-D101:D103)} -> 0 | I100: {=SUMPRODUCT(G101:G103*24,H101:H103)} -> 0
C101: Einheit 1 | G101: =SUM(E101-D101) -> 0
C102: Einheit 2 | G102: =SUM(E102-D102) -> 0
C103: Einheit 3 | G103: =SUM(E103-D103) -> 0
A104: 21. | B104: November | C104: Samstag | G104: {=SUM(E105:E107-D105:D107)} -> 0 | I104: {=SUMPRODUCT(G105:G107*24,H105:H107)} -> 0
C105: Einheit 1 | G105: =SUM(E105-D105) -> 0
C106: Einheit 2 | G106: =SUM(E106-D106) -> 0
C107: Einheit 3 | G107: =SUM(E107-D107) -> 0
A108: 22. | B108: November | C108: Sonntag | G108: {=SUM(E109:E111-D109:D111)} -> 0 | I108: {=SUMPRODUCT(G109:G111*24,H109:H111)} -> 0
C109: Einheit 1 | G109: =SUM(E109-D109) -> 0
C110: Einheit 2 | G110: =SUM(E110-D110) -> 0
C111: Einheit 3 | G111: =SUM(E111-D111) -> 0
A112: 23. | B112: November | C112: Montag | G112: {=SUM(E113:E115-D113:D115)} -> 0 | I112: {=SUMPRODUCT(G113:G115*24,H113:H115)} -> 0
C113: Einheit 1 | G113: =SUM(E113-D113) -> 0
C114: Einheit 2 | G114: =SUM(E114-D114) -> 0
...

Sheet Dezember
A10: Ehrenamtler/in - Stundenabrechnung
A12: Ehrenamtler/in: | C12: =Gesamtübersicht!C12 -> 0
A13: Adresse: | C13: =Gesamtübersicht!C13 -> 0
A14: Mobil: | C14: =Gesamtübersicht!C14 -> 0
A15: IBAN: | C15: =Gesamtübersicht!C15 -> 0
D19: Monat | E19: Jahr
A20: Abrechnung Ehrenamtspauschale für: | D20: Dezember | E20: 2026
A21: in der Abteilung: | D21: =Gesamtübersicht!C16 -> 0
A23: # | B23: Monat | C23: Tag | D23: Start | E23: Ende | F23: Trainingsort | G23: Dauer (Std.) | H23: Stundensatz | I23: Gesamt
A24: 1. | B24: Dezember | C24: Dienstag | G24: {=SUM(E25:E27-D25:D27)} -> 0 | I24: {=SUMPRODUCT(G25:G27*24,H25:H27)} -> 0
C25: Einheit 1 | G25: =SUM(E25-D25) -> 0
C26: Einheit 2 | G26: =SUM(E26-D26) -> 0
C27: Einheit 3 | G27: =SUM(E27-D27) -> 0
A28: 2. | B28: Dezember | C28: Mittwoch | G28: {=SUM(E29:E31-D29:D31)} -> 0 | I28: {=SUMPRODUCT(G29:G31*24,H29:H31)} -> 0
C29: Einheit 1 | G29: =SUM(E29-D29) -> 0
C30: Einheit 2 | G30: =SUM(E30-D30) -> 0
C31: Einheit 3 | G31: =SUM(E31-D31) -> 0
A32: 3. | B32: Dezember | C32: Donnerstag | G32: {=SUM(E33:E35-D33:D35)} -> 0 | I32: {=SUMPRODUCT(G33:G35*24,H33:H35)} -> 0
C33: Einheit 1 | G33: =SUM(E33-D33) -> 0
C34: Einheit 2 | G34: =SUM(E34-D34) -> 0
C35: Einheit 3 | G35: =SUM(E35-D35) -> 0
A36: 4. | B36: Dezember | C36: Freitag | G36: {=SUM(E37:E39-D37:D39)} -> 0 | I36: {=SUMPRODUCT(G37:G39*24,H37:H39)} -> 0
C37: Einheit 1 | G37: =SUM(E37-D37) -> 0
C38: Einheit 2 | G38: =SUM(E38-D38) -> 0
C39: Einheit 3 | G39: =SUM(E39-D39) -> 0
A40: 5. | B40: Dezember | C40: Samstag | G40: {=SUM(E41:E43-D41:D43)} -> 0 | I40: {=SUMPRODUCT(G41:G43*24,H41:H43)} -> 0
C41: Einheit 1 | G41: =SUM(E41-D41) -> 0
C42: Einheit 2 | G42: =SUM(E42-D42) -> 0
C43: Einheit 3 | G43: =SUM(E43-D43) -> 0
A44: 6. | B44: Dezember | C44: Sonntag | G44: {=SUM(E45:E47-D45:D47)} -> 0 | I44: {=SUMPRODUCT(G45:G47*24,H45:H47)} -> 0
C45: Einheit 1 | G45: =SUM(E45-D45) -> 0
C46: Einheit 2 | G46: =SUM(E46-D46) -> 0
C47: Einheit 3 | G47: =SUM(E47-D47) -> 0
A48: 7. | B48: Dezember | C48: Montag | G48: {=SUM(E49:E51-D49:D51)} -> 0 | I48: {=SUMPRODUCT(G49:G51*24,H49:H51)} -> 0
C49: Einheit 1 | G49: =SUM(E49-D49) -> 0
C50: Einheit 2 | G50: =SUM(E50-D50) -> 0
C51: Einheit 3 | G51: =SUM(E51-D51) -> 0
A52: 8. | B52: Dezember | C52: Dienstag | G52: {=SUM(E53:E55-D53:D55)} -> 0 | I52: {=SUMPRODUCT(G53:G55*24,H53:H55)} -> 0
C53: Einheit 1 | G53: =SUM(E53-D53) -> 0
C54: Einheit 2 | G54: =SUM(E54-D54) -> 0
C55: Einheit 3 | G55: =SUM(E55-D55) -> 0
A56: 9. | B56: Dezember | C56: Mittwoch | G56: {=SUM(E57:E59-D57:D59)} -> 0 | I56: {=SUMPRODUCT(G57:G59*24,H57:H59)} -> 0
C57: Einheit 1 | G57: =SUM(E57-D57) -> 0
C58: Einheit 2 | G58: =SUM(E58-D58) -> 0
C59: Einheit 3 | G59: =SUM(E59-D59) -> 0
A60: 10. | B60: Dezember | C60: Donnerstag | G60: {=SUM(E61:E63-D61:D63)} -> 0 | I60: {=SUMPRODUCT(G61:G63*24,H61:H63)} -> 0
C61: Einheit 1 | G61: =SUM(E61-D61) -> 0
C62: Einheit 2 | G62: =SUM(E62-D62) -> 0
C63: Einheit 3 | G63: =SUM(E63-D63) -> 0
A64: 11. | B64: Dezember | C64: Freitag | G64: {=SUM(E65:E67-D65:D67)} -> 0 | I64: {=SUMPRODUCT(G65:G67*24,H65:H67)} -> 0
C65: Einheit 1 | G65: =SUM(E65-D65) -> 0
C66: Einheit 2 | G66: =SUM(E66-D66) -> 0
C67: Einheit 3 | G67: =SUM(E67-D67) -> 0
A68: 12. | B68: Dezember | C68: Samstag | G68: {=SUM(E69:E71-D69:D71)} -> 0 | I68: {=SUMPRODUCT(G69:G71*24,H69:H71)} -> 0
C69: Einheit 1 | G69: =SUM(E69-D69) -> 0
C70: Einheit 2 | G70: =SUM(E70-D70) -> 0
C71: Einheit 3 | G71: =SUM(E71-D71) -> 0
A72: 13. | B72: Dezember | C72: Sonntag | G72: {=SUM(E73:E75-D73:D75)} -> 0 | I72: {=SUMPRODUCT(G73:G75*24,H73:H75)} -> 0
C73: Einheit 1 | G73: =SUM(E73-D73) -> 0
C74: Einheit 2 | G74: =SUM(E74-D74) -> 0
C75: Einheit 3 | G75: =SUM(E75-D75) -> 0
A76: 14. | B76: Dezember | C76: Montag | G76: {=SUM(E77:E79-D77:D79)} -> 0 | I76: {=SUMPRODUCT(G77:G79*24,H77:H79)} -> 0
C77: Einheit 1 | G77: =SUM(E77-D77) -> 0
C78: Einheit 2 | G78: =SUM(E78-D78) -> 0
C79: Einheit 3 | G79: =SUM(E79-D79) -> 0
A80: 15. | B80: Dezember | C80: Dienstag | G80: {=SUM(E81:E83-D81:D83)} -> 0 | I80: {=SUMPRODUCT(G81:G83*24,H81:H83)} -> 0
C81: Einheit 1 | G81: =SUM(E81-D81) -> 0
C82: Einheit 2 | G82: =SUM(E82-D82) -> 0
C83: Einheit 3 | G83: =SUM(E83-D83) -> 0
A84: 16. | B84: Dezember | C84: Mittwoch | G84: {=SUM(E85:E87-D85:D87)} -> 0 | I84: {=SUMPRODUCT(G85:G87*24,H85:H87)} -> 0
C85: Einheit 1 | G85: =SUM(E85-D85) -> 0
C86: Einheit 2 | G86: =SUM(E86-D86) -> 0
C87: Einheit 3 | G87: =SUM(E87-D87) -> 0
A88: 17. | B88: Dezember | C88: Donnerstag | G88: {=SUM(E89:E91-D89:D91)} -> 0 | I88: {=SUMPRODUCT(G89:G91*24,H89:H91)} -> 0
C89: Einheit 1 | G89: =SUM(E89-D89) -> 0
C90: Einheit 2 | G90: =SUM(E90-D90) -> 0
C91: Einheit 3 | G91: =SUM(E91-D91) -> 0
A92: 18. | B92: Dezember | C92: Freitag | G92: {=SUM(E93:E95-D93:D95)} -> 0 | I92: {=SUMPRODUCT(G93:G95*24,H93:H95)} -> 0
C93: Einheit 1 | G93: =SUM(E93-D93) -> 0
C94: Einheit 2 | G94: =SUM(E94-D94) -> 0
C95: Einheit 3 | G95: =SUM(E95-D95) -> 0
A96: 19. | B96: Dezember | C96: Samstag | G96: {=SUM(E97:E99-D97:D99)} -> 0 | I96: {=SUMPRODUCT(G97:G99*24,H97:H99)} -> 0
C97: Einheit 1 | G97: =SUM(E97-D97) -> 0
C98: Einheit 2 | G98: =SUM(E98-D98) -> 0
C99: Einheit 3 | G99: =SUM(E99-D99) -> 0
A100: 20. | B100: Dezember | C100: Sonntag | G100: {=SUM(E101:E103-D101:D103)} -> 0 | I100: {=SUMPRODUCT(G101:G103*24,H101:H103)} -> 0
C101: Einheit 1 | G101: =SUM(E101-D101) -> 0
C102: Einheit 2 | G102: =SUM(E102-D102) -> 0
C103: Einheit 3 | G103: =SUM(E103-D103) -> 0
A104: 21. | B104: Dezember | C104: Montag | G104: {=SUM(E105:E107-D105:D107)} -> 0 | I104: {=SUMPRODUCT(G105:G107*24,H105:H107)} -> 0
C105: Einheit 1 | G105: =SUM(E105-D105) -> 0
C106: Einheit 2 | G106: =SUM(E106-D106) -> 0
C107: Einheit 3 | G107: =SUM(E107-D107) -> 0
A108: 22. | B108: Dezember | C108: Dienstag | G108: {=SUM(E109:E111-D109:D111)} -> 0 | I108: {=SUMPRODUCT(G109:G111*24,H109:H111)} -> 0
C109: Einheit 1 | G109: =SUM(E109-D109) -> 0
C110: Einheit 2 | G110: =SUM(E110-D110) -> 0
C111: Einheit 3 | G111: =SUM(E111-D111) -> 0
A112: 23. | B112: Dezember | C112: Mittwoch | G112: {=SUM(E113:E115-D113:D115)} -> 0 | I112: {=SUMPRODUCT(G113:G115*24,H113:H115)} -> 0
C113: Einheit 1 | G113: =SUM(E113-D113) -> 0
C114: Einheit 2 | G114: =SUM(E114-D114) -> 0
...
