Workbook

Sheet Einstieg
A13: Ehrenamt Abrechnung
A17: Bitte gründlich durchlesen!
A20: Bearbeitung
A23: Bevor ihr beginnt die Zeiten einzutragen füllt bitte die makierten Zellen mit euren Daten aus. Diese werden automatisch in die Monatsansicht übertragen
A26: Auf den jeweiligen Monatsblättern befindet sich eine Tabelle mit allen Tagen im Monat. Da es vorkommen kann, dass ihr mehr als einen Kurs am Tag habt, haben wir für euch eine Möglichkeit eingebaut auch diese zu notieren. Dazu öffnet ihr auf der linken Seite per "+" den Tag und könnt bis zu 3 Kurse dort eintragen. Wichtig: auch wenn ihr nur einen Kurs am Tag hattet, müsst ihr den Tag mit dem "+" öffnen und dann in der Zeile vom Kurs1 eure Daten eintragen
A34: Beispiel:
A54: Legende:
B56: muss ausgefüllt werden
B57: muss auf den Monatsbättern ausgefüllt werden
A60: Felder mit automatischer Formatierungen:
A62: Die Zelle "Dauer (Std.)" wird automatisch nach dem Befüllen der Zellen hinter Kurs 1 - "Beginn" + "Ende" zusammengerechnet.
A63: Die Uhrzeiten müssen bitte in folgenden Format eingetragen werden: hh:mm
A64: Bitte fügt auch den jeweiligen Ort der Trainingseinheit dazu.
A66: Beispiel:
A84: Als nächster Schritt wird dann der vereinbarte Stundensatz pro Trainingseinheit in der entsprechenden Zeile eingetragen. Die Zelle "Gesamt" wird auch hier wieder automatisch befüllt.
A87: Beispiel:
A107: Auf der "Gesamtübersicht" werden die eingetragen Daten automatisch ausgefüllt. Hier erhaltet ihr auch den Überblick über die bisher erhaltene Pauschale und den verbleibenden Betrag für das Kalenderjahr
A111: Beispiel:
A137: Beschreibung:
A139: Gesamtübersicht: | B139: Hier erhaltet ihr einen Gesamtüberblick aller Stunden und Pauschalen im laufenden Kalenderjahr.
A140: Monatsübersicht: | B140: Hier erhaltet ihr eine Gesamtübersicht über den kompletten Monat.
A147: Senden an:
A149: Wenn ihr die Liste oder den jeweiligen Monat ausgefüllt habt, schickt ihr die gesamte Datei oder das Blatt (Monatsansicht) an folgende E-Mail-Adresse:
A152: abrechnung@viktoriamitte.de
A154: Wichtig: schickt uns die Datei bei in folgenden Format - VornameName_Monat.xls
A156: Sollte euch ein Fehler auffallen, so meldet diesen bitte auch an die oben genannte Mailadresse.
A158: SV Rot-Weiß Viktoria Mitte 08 e.V. | F158: Tel. | G158: 030/55274674
A159: Am Zirkus 5 | F159: E-Mail | G159: info@viktoriamitte.de
A160: 10117 Berlin

Sheet Gesamtübersicht
A10: Ehrenamtler/in - Stundenabrechnung
A12: Ehrenamtler/in:
A13: Adresse:
A14: Mobil:
A15: IBAN:
A16: Abteilung:
A18: Monat | B18: Dauer (Std.) monatlich | C18: Einzelsumme
A19: Januar | B19: =Januar!$G$148 -> 0 | C19: =Januar!$I$148 -> 0
A20: Februar | B20: =Februar!G136 -> 0 | C20: =Februar!$I$136 -> 0
A21: März | B21: =März!G148 -> 0 | C21: =März!$I$148 -> 0
A22: April | B22: =April!G144 -> 0 | C22: =April!$I$144 -> 0
A23: Mai | B23: =Mai!G148 -> 0 | C23: =Mai!$I$148 -> 0
A24: Juni | B24: =Juni!G144 -> 0 | C24: =Juni!$I$144 -> 0
A25: Juli | B25: =Juli!G148 -> 0 | C25: =Juli!$I$148 -> 0
A26: August | B26: =August!G148 -> 0 | C26: =August!$I$148 -> 0
A27: September | B27: =September!G144 -> 0 | C27: =September!$I$144 -> 0
A28: Oktober | B28: =Oktober!G148 -> 0 | C28: =Oktober!$I$148 -> 0
A29: November | B29: =November!G144 -> 0 | C29: =November!$I$144 -> 0
A30: Dezember | B30: =Dezember!G148 -> 0 | C30: =Dezember!$I$148 -> 0
A31: Gesamt | B31: =SUM(B19:B30) -> 0 | C31: =SUM(C19:C30) -> 0
A34: Ehrenamtspauschale pro Kalenderjahr | C34: 960
A35: bereits erhalten | C35: =SUM(C19:C30) -> 0
A36: Verbleibender Betrag der Ehrenamtspauschale | C36: =C34-C35 -> 960
A40: Senden an:
A42: Wenn ihr die Liste oder den jeweiligen Monat ausgefüllt habt, so schickt die gesamte Datei oder das Blatt an folgende E-Mail-Adresse:
A45: abrechnung@viktoriamitte.de
A51: SV Rot-Weiß Viktoria Mitte 08 e.V. | F51: Tel. | G51: 030/55274674
A52: Am Zirkus 5 | F52: E-Mail | G52: info@viktoriamitte.de
A53: 10117 Berlin

Sheet Januar
A10: Ehrenamtler/in - Stundenabrechnung
A12: Ehrenamtler/in: | C12: =Gesamtübersicht!C12 -> 0
A13: Adresse: | C13: =Gesamtübersicht!C13 -> 0
A14: Mobil: | C14: =Gesamtübersicht!C14 -> 0
A15: IBAN: | C15: =Gesamtübersicht!C15 -> 0
D19: Monat | E19: Jahr
A20: Abrechnung Ehrenamtspauschale für: | D20: Januar | E20: 2026
A21: in der Abteilung: | D21: =Gesamtübersicht!C16 -> 0
A23: # | B23: Monat | C23: Tag | D23: Beginn | E23: Ende | F23: Trainingsort | G23: Dauer (Std.) | H23: Stundensatz | I23: Gesamt
A24: 1. | B24: Januar | C24: Donnerstag | G24: {=SUM(E25:E27-D25:D27)} -> 0 | I24: {=SUMPRODUCT(G25:G27*24,H25:H27)} -> 0
C25: Einheit 1 | G25: =SUM(E25-D25) -> 0
C26: Einheit 2 | G26: =SUM(E26-D26) -> 0
C27: Einheit 3 | G27: =SUM(E27-D27) -> 0
A28: 2. | B28: Januar | C28: Freitag | G28: {=SUM(E29:E31-D29:D31)} -> 0 | I28: {=SUMPRODUCT(G29:G31*24,H29:H31)} -> 0
C29: Einheit 1 | G29: =SUM(E29-D29) -> 0
C30: Einheit 2 | G30: =SUM(E30-D30) -> 0
C31: Einheit 3 | G31: =SUM(E31-D31) -> 0
A32: 3. | B32: Januar | C32: Samstag | G32: {=SUM(E33:E35-D33:D35)} -> 0 | I32: {=SUMPRODUCT(G33:G35*24,H33:H35)} -> 0
C33: Einheit 1 | G33: =SUM(E33-D33) -> 0
C34: Einheit 2 | G34: =SUM(E34-D34) -> 0
C35: Einheit 3 | G35: =SUM(E35-D35) -> 0
A36: 4. | B36: Januar | C36: Sonntag | G36: {=SUM(E37:E39-D37:D39)} -> 0 | I36: {=SUMPRODUCT(G37:G39*24,H37:H39)} -> 0
C37: Einheit 1 | G37: =SUM(E37-D37) -> 0
C38: Einheit 2 | G38: =SUM(E38-D38) -> 0
C39: Einheit 3 | G39: =SUM(E39-D39) -> 0
A40: 5. | B40: Januar | C40: Montag | G40: {=SUM(E41:E43-D41:D43)} -> 0 | I40: {=SUMPRODUCT(G41:G43*24,H41:H43)} -> 0
C41: Einheit 1 | G41: =SUM(E41-D41) -> 0
C42: Einheit 2 | G42: =SUM(E42-D42) -> 0
C43: Einheit 3 | G43: =SUM(E43-D43) -> 0
A44: 6. | B44: Januar | C44: Dienstag | G44: {=SUM(E45:E47-D45:D47)} -> 0 | I44: {=SUMPRODUCT(G45:G47*24,H45:H47)} -> 0
C45: Einheit 1 | G45: =SUM(E45-D45) -> 0
C46: Einheit 2 | G46: =SUM(E46-D46) -> 0
C47: Einheit 3 | G47: =SUM(E47-D47) -> 0
A48: 7. | B48: Januar | C48: Mittwoch | G48: {=SUM(E49:E51-D49:D51)} -> 0 | I48: {=SUMPRODUCT(G49:G51*24,H49:H51)} -> 0
C49: Einheit 1 | G49: =SUM(E49-D49) -> 0
C50: Einheit 2 | G50: =SUM(E50-D50) -> 0
C51: Einheit 3 | G51: =SUM(E51-D51) -> 0
A52: 8. | B52: Januar | C52: Donnerstag | G52: {=SUM(E53:E55-D53:D55)} -> 0 | I52: {=SUMPRODUCT(G53:G55*24,H53:H55)} -> 0
C53: Einheit 1 | G53: =SUM(E53-D53) -> 0
C54: Einheit 2 | G54: =SUM(E54-D54) -> 0
...

Sheet Februar
A10: Ehrenamtler/in - Stundenabrechnung
A12: Ehrenamtler/in: | C12: =Gesamtübersicht!C12 -> 0
A13: Adresse: | C13: =Gesamtübersicht!C13 -> 0
A14: Mobil: | C14: =Gesamtübersicht!C14 -> 0
A15: IBAN: | C15: =Gesamtübersicht!C15 -> 0
D19: Monat | E19: Jahr
A20: Abrechnung Ehrenamtspauschale für: | D20: Februar | E20: 2026
A21: in der Abteilung: | D21: =Gesamtübersicht!C16 -> 0
A23: # | B23: Monat | C23: Tag | D23: Beginn | E23: Ende | F23: Trainingsort | G23: Dauer (Std.) | H23: Stundensatz | I23: Gesamt
A24: 1. | B24: Februar | C24: Sonntag | G24: {=SUM(E25:E27-D25:D27)} -> 0 | I24: {=SUMPRODUCT(G25:G27*24,H25:H27)} -> 0
C25: Einheit 1 | G25: =SUM(E25-D25) -> 0
C26: Einheit 2 | G26: =SUM(E26-D26) -> 0
C27: Einheit 3 | G27: =SUM(E27-D27) -> 0
A28: 2. | B28: Februar | C28: Montag | G28: {=SUM(E29:E31-D29:D31)} -> 0 | I28: {=SUMPRODUCT(G29:G31*24,H29:H31)} -> 0
C29: Einheit 1 | G29: =SUM(E29-D29) -> 0
C30: Einheit 2 | G30: =SUM(E30-D30) -> 0
C31: Einheit 3 | G31: =SUM(E31-D31) -> 0
A32: 3. | B32: Februar | C32: Dienstag | G32: {=SUM(E33:E35-D33:D35)} -> 0 | I32: {=SUMPRODUCT(G33:G35*24,H33:H35)} -> 0
C33: Einheit 1 | G33: =SUM(E33-D33) -> 0
C34: Einheit 2 | G34: =SUM(E34-D34) -> 0
C35: Einheit 3 | G35: =SUM(E35-D35) -> 0
A36: 4. | B36: Februar | C36: Mittwoch | G36: {=SUM(E37:E39-D37:D39)} -> 0 | I36: {=SUMPRODUCT(G37:G39*24,H37:H39)} -> 0
C37: Einheit 1 | G37: =SUM(E37-D37) -> 0
C38: Einheit 2 | G38: =SUM(E38-D38) -> 0
C39: Einheit 3 | G39: =SUM(E39-D39) -> 0
A40: 5. | B40: Februar | C40: Donnerstag | G40: {=SUM(E41:E43-D41:D43)} -> 0 | I40: {=SUMPRODUCT(G41:G43*24,H41:H43)} -> 0
C41: Einheit 1 | G41: =SUM(E41-D41) -> 0
C42: Einheit 2 | G42: =SUM(E42-D42) -> 0
C43: Einheit 3 | G43: =SUM(E43-D43) -> 0
A44: 6. | B44: Februar | C44: Freitag | G44: {=SUM(E45:E47-D45:D47)} -> 0 | I44: {=SUMPRODUCT(G45:G47*24,H45:H47)} -> 0
C45: Einheit 1 | G45: =SUM(E45-D45) -> 0
C46: Einheit 2 | G46: =SUM(E46-D46) -> 0
C47: Einheit 3 | G47: =SUM(E47-D47) -> 0
A48: 7. | B48: Februar | C48: Samstag | G48: {=SUM(E49:E51-D49:D51)} -> 0 | I48: {=SUMPRODUCT(G49:G51*24,H49:H51)} -> 0
C49: Einheit 1 | G49: =SUM(E49-D49) -> 0
C50: Einheit 2 | G50: =SUM(E50-D50) -> 0
C51: Einheit 3 | G51: =SUM(E51-D51) -> 0
A52: 8. | B52: Februar | C52: Sonntag | G52: {=SUM(E53:E55-D53:D55)} -> 0 | I52: {=SUMPRODUCT(G53:G55*24,H53:H55)} -> 0
C53: Einheit 1 | G53: =SUM(E53-D53) -> 0
C54: Einheit 2 | G54: =SUM(E54-D54) -> 0
...

Sheet März
A10: Ehrenamtler/in - Stundenabrechnung
A12: Ehrenamtler/in: | C12: =Gesamtübersicht!C12 -> 0
A13: Adresse: | C13: =Gesamtübersicht!C13 -> 0
A14: Mobil: | C14: =Gesamtübersicht!C14 -> 0
A15: IBAN: | C15: =Gesamtübersicht!C15 -> 0
D19: Monat | E19: Jahr
A20: Abrechnung Ehrenamtspauschale für: | D20: März | E20: 2026
A21: in der Abteilung: | D21: =Gesamtübersicht!C16 -> 0
A23: # | B23: Monat | C23: Tag | D23: Beginn | E23: Ende | F23: Trainingsort | G23: Dauer (Std.) | H23: Stundensatz | I23: Gesamt
A24: 1. | B24: März | C24: Sonntag | G24: {=SUM(E25:E27-D25:D27)} -> 0 | I24: {=SUMPRODUCT(G25:G27*24,H25:H27)} -> 0
C25: Einheit 1 | G25: =SUM(E25-D25) -> 0
C26: Einheit 2 | G26: =SUM(E26-D26) -> 0
C27: Einheit 3 | G27: =SUM(E27-D27) -> 0
A28: 2. | B28: März | C28: Montag | G28: {=SUM(E29:E31-D29:D31)} -> 0 | I28: {=SUMPRODUCT(G29:G31*24,H29:H31)} -> 0
C29: Einheit 1 | G29: =SUM(E29-D29) -> 0
C30: Einheit 2 | G30: =SUM(E30-D30) -> 0
C31: Einheit 3 | G31: =SUM(E31-D31) -> 0
A32: 3. | B32: März | C32: Dienstag | G32: {=SUM(E33:E35-D33:D35)} -> 0 | I32: {=SUMPRODUCT(G33:G35*24,H33:H35)} -> 0
C33: Einheit 1 | G33: =SUM(E33-D33) -> 0
C34: Einheit 2 | G34: =SUM(E34-D34) -> 0
C35: Einheit 3 | G35: =SUM(E35-D35) -> 0
A36: 4. | B36: März | C36: Mittwoch | G36: {=SUM(E37:E39-D37:D39)} -> 0 | I36: {=SUMPRODUCT(G37:G39*24,H37:H39)} -> 0
C37: Einheit 1 | G37: =SUM(E37-D37) -> 0
C38: Einheit 2 | G38: =SUM(E38-D38) -> 0
C39: Einheit 3 | G39: =SUM(E39-D39) -> 0
A40: 5. | B40: März | C40: Donnerstag | G40: {=SUM(E41:E43-D41:D43)} -> 0 | I40: {=SUMPRODUCT(G41:G43*24,H41:H43)} -> 0
C41: Einheit 1 | G41: =SUM(E41-D41) -> 0
C42: Einheit 2 | G42: =SUM(E42-D42) -> 0
C43: Einheit 3 | G43: =SUM(E43-D43) -> 0
A44: 6. | B44: März | C44: Freitag | G44: {=SUM(E45:E47-D45:D47)} -> 0 | I44: {=SUMPRODUCT(G45:G47*24,H45:H47)} -> 0
C45: Einheit 1 | G45: =SUM(E45-D45) -> 0
C46: Einheit 2 | G46: =SUM(E46-D46) -> 0
C47: Einheit 3 | G47: =SUM(E47-D47) -> 0
A48: 7. | B48: März | C48: Samstag | G48: {=SUM(E49:E51-D49:D51)} -> 0 | I48: {=SUMPRODUCT(G49:G51*24,H49:H51)} -> 0
C49: Einheit 1 | G49: =SUM(E49-D49) -> 0
C50: Einheit 2 | G50: =SUM(E50-D50) -> 0
C51: Einheit 3 | G51: =SUM(E51-D51) -> 0
A52: 8. | B52: März | C52: Sonntag | G52: {=SUM(E53:E55-D53:D55)} -> 0 | I52: {=SUMPRODUCT(G53:G55*24,H53:H55)} -> 0
C53: Einheit 1 | G53: =SUM(E53-D53) -> 0
C54: Einheit 2 | G54: =SUM(E54-D54) -> 0
...

Sheet April
A10: Ehrenamtler/in - Stundenabrechnung
A12: Ehrenamtler/in: | C12: =Gesamtübersicht!C12 -> 0
A13: Adresse: | C13: =Gesamtübersicht!C13 -> 0
A14: Mobil: | C14: =Gesamtübersicht!C14 -> 0
A15: IBAN: | C15: =Gesamtübersicht!C15 -> 0
D19: Monat | E19: Jahr
A20: Abrechnung Ehrenamtspauschale für: | D20: April | E20: 2026
A21: in der Abteilung: | D21: =Gesamtübersicht!C16 -> 0
A23: # | B23: Monat | C23: Tag | D23: Beginn | E23: Ende | F23: Trainingsort | G23: Dauer (Std.) | H23: Stundensatz | I23: Gesamt
A24: 1. | B24: April | C24: Mittwoch | G24: {=SUM(E25:E27-D25:D27)} -> 0 | I24: {=SUMPRODUCT(G25:G27*24,H25:H27)} -> 0
C25: Einheit 1 | G25: =SUM(E25-D25) -> 0
C26: Einheit 2 | G26: =SUM(E26-D26) -> 0
C27: Einheit 3 | G27: =SUM(E27-D27) -> 0
A28: 2. | B28: April | C28: Donnerstag | G28: {=SUM(E29:E31-D29:D31)} -> 0 | I28: {=SUMPRODUCT(G29:G31*24,H29:H31)} -> 0
C29: Einheit 1 | G29: =SUM(E29-D29) -> 0
C30: Einheit 2 | G30: =SUM(E30-D30) -> 0
C31: Einheit 3 | G31: =SUM(E31-D31) -> 0
A32: 3. | B32: April | C32: Freitag | G32: {=SUM(E33:E35-D33:D35)} -> 0 | I32: {=SUMPRODUCT(G33:G35*24,H33:H35)} -> 0
C33: Einheit 1 | G33: =SUM(E33-D33) -> 0
C34: Einheit 2 | G34: =SUM(E34-D34) -> 0
C35: Einheit 3 | G35: =SUM(E35-D35) -> 0
A36: 4. | B36: April | C36: Samstag | G36: {=SUM(E37:E39-D37:D39)} -> 0 | I36: {=SUMPRODUCT(G37:G39*24,H37:H39)} -> 0
C37: Einheit 1 | G37: =SUM(E37-D37) -> 0
C38: Einheit 2 | G38: =SUM(E38-D38) -> 0
C39: Einheit 3 | G39: =SUM(E39-D39) -> 0
A40: 5. | B40: April | C40: Sonntag | G40: {=SUM(E41:E43-D41:D43)} -> 0 | I40: {=SUMPRODUCT(G41:G43*24,H41:H43)} -> 0
C41: Einheit 1 | G41: =SUM(E41-D41) -> 0
C42: Einheit 2 | G42: =SUM(E42-D42) -> 0
C43: Einheit 3 | G43: =SUM(E43-D43) -> 0
A44: 6. | B44: April | C44: Montag | G44: {=SUM(E45:E47-D45:D47)} -> 0 | I44: {=SUMPRODUCT(G45:G47*24,H45:H47)} -> 0
C45: Einheit 1 | G45: =SUM(E45-D45) -> 0
C46: Einheit 2 | G46: =SUM(E46-D46) -> 0
C47: Einheit 3 | G47: =SUM(E47-D47) -> 0
A48: 7. | B48: April | C48: Dienstag | G48: {=SUM(E49:E51-D49:D51)} -> 0 | I48: {=SUMPRODUCT(G49:G51*24,H49:H51)} -> 0
C49: Einheit 1 | G49: =SUM(E49-D49) -> 0
C50: Einheit 2 | G50: =SUM(E50-D50) -> 0
C51: Einheit 3 | G51: =SUM(E51-D51) -> 0
A52: 8. | B52: April | C52: Mittwoch | G52: {=SUM(E53:E55-D53:D55)} -> 0 | I52: {=SUMPRODUCT(G53:G55*24,H53:H55)} -> 0
C53: Einheit 1 | G53: =SUM(E53-D53) -> 0
C54: Einheit 2 | G54: =SUM(E54-D54) -> 0
...

Sheet Mai
A10: Ehrenamtler/in - Stundenabrechnung
A12: Ehrenamtler/in: | C12: =Gesamtübersicht!C12 -> 0
A13: Adresse: | C13: =Gesamtübersicht!C13 -> 0
A14: Mobil: | C14: =Gesamtübersicht!C14 -> 0
A15: IBAN: | C15: =Gesamtübersicht!C15 -> 0
D19: Monat | E19: Jahr
A20: Abrechnung Ehrenamtspauschale für: | D20: Mai | E20: 2026
A21: in der Abteilung: | D21: =Gesamtübersicht!C16 -> 0
A23: # | B23: Monat | C23: Tag | D23: Beginn | E23: Ende | F23: Trainingsort | G23: Dauer (Std.) | H23: Stundensatz | I23: Gesamt
A24: 1. | B24: Mai | C24: Freitag | G24: {=SUM(E25:E27-D25:D27)} -> 0 | I24: {=SUMPRODUCT(G25:G27*24,H25:H27)} -> 0
C25: Einheit 1 | G25: =SUM(E25-D25) -> 0
C26: Einheit 2 | G26: =SUM(E26-D26) -> 0
C27: Einheit 3 | G27: =SUM(E27-D27) -> 0
A28: 2. | B28: Mai | C28: Samstag | G28: {=SUM(E29:E31-D29:D31)} -> 0 | I28: {=SUMPRODUCT(G29:G31*24,H29:H31)} -> 0
C29: Einheit 1 | G29: =SUM(E29-D29) -> 0
C30: Einheit 2 | G30: =SUM(E30-D30) -> 0
C31: Einheit 3 | G31: =SUM(E31-D31) -> 0
A32: 3. | B32: Mai | C32: Sonntag | G32: {=SUM(E33:E35-D33:D35)} -> 0 | I32: {=SUMPRODUCT(G33:G35*24,H33:H35)} -> 0
C33: Einheit 1 | G33: =SUM(E33-D33) -> 0
C34: Einheit 2 | G34: =SUM(E34-D34) -> 0
C35: Einheit 3 | G35: =SUM(E35-D35) -> 0
A36: 4. | B36: Mai | C36: Montag | G36: {=SUM(E37:E39-D37:D39)} -> 0 | I36: {=SUMPRODUCT(G37:G39*24,H37:H39)} -> 0
C37: Einheit 1 | G37: =SUM(E37-D37) -> 0
C38: Einheit 2 | G38: =SUM(E38-D38) -> 0
C39: Einheit 3 | G39: =SUM(E39-D39) -> 0
A40: 5. | B40: Mai | C40: Dienstag | G40: {=SUM(E41:E43-D41:D43)} -> 0 | I40: {=SUMPRODUCT(G41:G43*24,H41:H43)} -> 0
C41: Einheit 1 | G41: =SUM(E41-D41) -> 0
C42: Einheit 2 | G42: =SUM(E42-D42) -> 0
C43: Einheit 3 | G43: =SUM(E43-D43) -> 0
A44: 6. | B44: Mai | C44: Mittwoch | G44: {=SUM(E45:E47-D45:D47)} -> 0 | I44: {=SUMPRODUCT(G45:G47*24,H45:H47)} -> 0
C45: Einheit 1 | G45: =SUM(E45-D45) -> 0
C46: Einheit 2 | G46: =SUM(E46-D46) -> 0
C47: Einheit 3 | G47: =SUM(E47-D47) -> 0
A48: 7. | B48: Mai | C48: Donnerstag | G48: {=SUM(E49:E51-D49:D51)} -> 0 | I48: {=SUMPRODUCT(G49:G51*24,H49:H51)} -> 0
C49: Einheit 1 | G49: =SUM(E49-D49) -> 0
C50: Einheit 2 | G50: =SUM(E50-D50) -> 0
C51: Einheit 3 | G51: =SUM(E51-D51) -> 0
A52: 8. | B52: Mai | C52: Freitag | G52: {=SUM(E53:E55-D53:D55)} -> 0 | I52: {=SUMPRODUCT(G53:G55*24,H53:H55)} -> 0
C53: Einheit 1 | G53: =SUM(E53-D53) -> 0
C54: Einheit 2 | G54: =SUM(E54-D54) -> 0
...

Sheet Juni
A10: Ehrenamtler/in - Stundenabrechnung
A12: Ehrenamtler/in: | C12: =Gesamtübersicht!C12 -> 0
A13: Adresse: | C13: =Gesamtübersicht!C13 -> 0
A14: Mobil: | C14: =Gesamtübersicht!C14 -> 0
A15: IBAN: | C15: =Gesamtübersicht!C15 -> 0
D19: Monat | E19: Jahr
A20: Abrechnung Ehrenamtspauschale für: | D20: Juni | E20: 2026
A21: in der Abteilung: | D21: =Gesamtübersicht!C16 -> 0
A23: # | B23: Monat | C23: Tag | D23: Beginn | E23: Ende | F23: Trainingsort | G23: Dauer (Std.) | H23: Stundensatz | I23: Gesamt
A24: 1. | B24: Juni | C24: Montag | G24: {=SUM(E25:E27-D25:D27)} -> 0 | I24: {=SUMPRODUCT(G25:G27*24,H25:H27)} -> 0
C25: Einheit 1 | G25: =SUM(E25-D25) -> 0
C26: Einheit 2 | G26: =SUM(E26-D26) -> 0
C27: Einheit 3 | G27: =SUM(E27-D27) -> 0
A28: 2. | B28: Juni | C28: Dienstag | G28: {=SUM(E29:E31-D29:D31)} -> 0 | I28: {=SUMPRODUCT(G29:G31*24,H29:H31)} -> 0
C29: Einheit 1 | G29: =SUM(E29-D29) -> 0
C30: Einheit 2 | G30: =SUM(E30-D30) -> 0
C31: Einheit 3 | G31: =SUM(E31-D31) -> 0
A32: 3. | B32: Juni | C32: Mittwoch | G32: {=SUM(E33:E35-D33:D35)} -> 0 | I32: {=SUMPRODUCT(G33:G35*24,H33:H35)} -> 0
C33: Einheit 1 | G33: =SUM(E33-D33) -> 0
C34: Einheit 2 | G34: =SUM(E34-D34) -> 0
C35: Einheit 3 | G35: =SUM(E35-D35) -> 0
A36: 4. | B36: Juni | C36: Donnerstag | G36: {=SUM(E37:E39-D37:D39)} -> 0 | I36: {=SUMPRODUCT(G37:G39*24,H37:H39)} -> 0
C37: Einheit 1 | G37: =SUM(E37-D37) -> 0
C38: Einheit 2 | G38: =SUM(E38-D38) -> 0
C39: Einheit 3 | G39: =SUM(E39-D39) -> 0
A40: 5. | B40: Juni | C40: Freitag | G40: {=SUM(E41:E43-D41:D43)} -> 0 | I40: {=SUMPRODUCT(G41:G43*24,H41:H43)} -> 0
C41: Einheit 1 | G41: =SUM(E41-D41) -> 0
C42: Einheit 2 | G42: =SUM(E42-D42) -> 0
C43: Einheit 3 | G43: =SUM(E43-D43) -> 0
A44: 6. | B44: Juni | C44: Samstag | G44: {=SUM(E45:E47-D45:D47)} -> 0 | I44: {=SUMPRODUCT(G45:G47*24,H45:H47)} -> 0
C45: Einheit 1 | G45: =SUM(E45-D45) -> 0
C46: Einheit 2 | G46: =SUM(E46-D46) -> 0
C47: Einheit 3 | G47: =SUM(E47-D47) -> 0
A48: 7. | B48: Juni | C48: Sonntag | G48: {=SUM(E49:E51-D49:D51)} -> 0 | I48: {=SUMPRODUCT(G49:G51*24,H49:H51)} -> 0
C49: Einheit 1 | G49: =SUM(E49-D49) -> 0
C50: Einheit 2 | G50: =SUM(E50-D50) -> 0
C51: Einheit 3 | G51: =SUM(E51-D51) -> 0
A52: 8. | B52: Juni | C52: Montag | G52: {=SUM(E53:E55-D53:D55)} -> 0 | I52: {=SUMPRODUCT(G53:G55*24,H53:H55)} -> 0
C53: Einheit 1 | G53: =SUM(E53-D53) -> 0
C54: Einheit 2 | G54: =SUM(E54-D54) -> 0
...

Sheet Juli
A10: Ehrenamtler/in - Stundenabrechnung
A12: Ehrenamtler/in: | C12: =Gesamtübersicht!C12 -> 0
A13: Adresse: | C13: =Gesamtübersicht!C13 -> 0
A14: Mobil: | C14: =Gesamtübersicht!C14 -> 0
A15: IBAN: | C15: =Gesamtübersicht!C15 -> 0
D19: Monat | E19: Jahr
A20: Abrechnung Ehrenamtspauschale für: | D20: Juli | E20: 2026
A21: in der Abteilung: | D21: =Gesamtübersicht!C16 -> 0
A23: # | B23: Monat | C23: Tag | D23: Beginn | E23: Ende | F23: Trainingsort | G23: Dauer (Std.) | H23: Stundensatz | I23: Gesamt
A24: 1. | B24: Juli | C24: Mittwoch | G24: {=SUM(E25:E27-D25:D27)} -> 0 | I24: {=SUMPRODUCT(G25:G27*24,H25:H27)} -> 0
C25: Einheit 1 | G25: =SUM(E25-D25) -> 0
C26: Einheit 2 | G26: =SUM(E26-D26) -> 0
C27: Einheit 3 | G27: =SUM(E27-D27) -> 0
A28: 2. | B28: Juli | C28: Donnerstag | G28: {=SUM(E29:E31-D29:D31)} -> 0 | I28: {=SUMPRODUCT(G29:G31*24,H29:H31)} -> 0
C29: Einheit 1 | G29: =SUM(E29-D29) -> 0
C30: Einheit 2 | G30: =SUM(E30-D30) -> 0
C31: Einheit 3 | G31: =SUM(E31-D31) -> 0
A32: 3. | B32: Juli | C32: Freitag | G32: {=SUM(E33:E35-D33:D35)} -> 0 | I32: {=SUMPRODUCT(G33:G35*24,H33:H35)} -> 0
C33: Einheit 1 | G33: =SUM(E33-D33) -> 0
C34: Einheit 2 | G34: =SUM(E34-D34) -> 0
C35: Einheit 3 | G35: =SUM(E35-D35) -> 0
A36: 4. | B36: Juli | C36: Samstag | G36: {=SUM(E37:E39-D37:D39)} -> 0 | I36: {=SUMPRODUCT(G37:G39*24,H37:H39)} -> 0
C37: Einheit 1 | G37: =SUM(E37-D37) -> 0
C38: Einheit 2 | G38: =SUM(E38-D38) -> 0
C39: Einheit 3 | G39: =SUM(E39-D39) -> 0
A40: 5. | B40: Juli | C40: Sonntag | G40: {=SUM(E41:E43-D41:D43)} -> 0 | I40: {=SUMPRODUCT(G41:G43*24,H41:H43)} -> 0
C41: Einheit 1 | G41: =SUM(E41-D41) -> 0
C42: Einheit 2 | G42: =SUM(E42-D42) -> 0
C43: Einheit 3 | G43: =SUM(E43-D43) -> 0
A44: 6. | B44: Juli | C44: Montag | G44: {=SUM(E45:E47-D45:D47)} -> 0 | I44: {=SUMPRODUCT(G45:G47*24,H45:H47)} -> 0
C45: Einheit 1 | G45: =SUM(E45-D45) -> 0
C46: Einheit 2 | G46: =SUM(E46-D46) -> 0
C47: Einheit 3 | G47: =SUM(E47-D47) -> 0
A48: 7. | B48: Juli | C48: Dienstag | G48: {=SUM(E49:E51-D49:D51)} -> 0 | I48: {=SUMPRODUCT(G49:G51*24,H49:H51)} -> 0
C49: Einheit 1 | G49: =SUM(E49-D49) -> 0
C50: Einheit 2 | G50: =SUM(E50-D50) -> 0
C51: Einheit 3 | G51: =SUM(E51-D51) -> 0
A52: 8. | B52: Juli | C52: Mittwoch | G52: {=SUM(E53:E55-D53:D55)} -> 0 | I52: {=SUMPRODUCT(G53:G55*24,H53:H55)} -> 0
C53: Einheit 1 | G53: =SUM(E53-D53) -> 0
C54: Einheit 2 | G54: =SUM(E54-D54) -> 0
...

Sheet August
A10: Ehrenamtler/in - Stundenabrechnung
A12: Ehrenamtler/in: | C12: =Gesamtübersicht!C12 -> 0
A13: Adresse: | C13: =Gesamtübersicht!C13 -> 0
A14: Mobil: | C14: =Gesamtübersicht!C14 -> 0
A15: IBAN: | C15: =Gesamtübersicht!C15 -> 0
D19: Monat | E19: Jahr
A20: Abrechnung Ehrenamtspauschale für: | D20: August | E20: 2026
A21: in der Abteilung: | D21: =Gesamtübersicht!C16 -> 0
A23: # | B23: Monat | C23: Tag | D23: Beginn | E23: Ende | F23: Trainingsort | G23: Dauer (Std.) | H23: Stundensatz | I23: Gesamt
A24: 1. | B24: August | C24: Samstag | G24: {=SUM(E25:E27-D25:D27)} -> 0 | I24: {=SUMPRODUCT(G25:G27*24,H25:H27)} -> 0
C25: Einheit 1 | G25: =SUM(E25-D25) -> 0
C26: Einheit 2 | G26: =SUM(E26-D26) -> 0
C27: Einheit 3 | G27: =SUM(E27-D27) -> 0
A28: 2. | B28: August | C28: Sonntag | G28: {=SUM(E29:E31-D29:D31)} -> 0 | I28: {=SUMPRODUCT(G29:G31*24,H29:H31)} -> 0
C29: Einheit 1 | G29: =SUM(E29-D29) -> 0
C30: Einheit 2 | G30: =SUM(E30-D30) -> 0
C31: Einheit 3 | G31: =SUM(E31-D31) -> 0
A32: 3. | B32: August | C32: Montag | G32: {=SUM(E33:E35-D33:D35)} -> 0 | I32: {=SUMPRODUCT(G33:G35*24,H33:H35)} -> 0
C33: Einheit 1 | G33: =SUM(E33-D33) -> 0
C34: Einheit 2 | G34: =SUM(E34-D34) -> 0
C35: Einheit 3 | G35: =SUM(E35-D35) -> 0
A36: 4. | B36: August | C36: Dienstag | G36: {=SUM(E37:E39-D37:D39)} -> 0 | I36: {=SUMPRODUCT(G37:G39*24,H37:H39)} -> 0
C37: Einheit 1 | G37: =SUM(E37-D37) -> 0
C38: Einheit 2 | G38: =SUM(E38-D38) -> 0
C39: Einheit 3 | G39: =SUM(E39-D39) -> 0
A40: 5. | B40: August | C40: Mittwoch | G40: {=SUM(E41:E43-D41:D43)} -> 0 | I40: {=SUMPRODUCT(G41:G43*24,H41:H43)} -> 0
C41: Einheit 1 | G41: =SUM(E41-D41) -> 0
C42: Einheit 2 | G42: =SUM(E42-D42) -> 0
C43: Einheit 3 | G43: =SUM(E43-D43) -> 0
A44: 6. | B44: August | C44: Donnerstag | G44: {=SUM(E45:E47-D45:D47)} -> 0 | I44: {=SUMPRODUCT(G45:G47*24,H45:H47)} -> 0
C45: Einheit 1 | G45: =SUM(E45-D45) -> 0
C46: Einheit 2 | G46: =SUM(E46-D46) -> 0
C47: Einheit 3 | G47: =SUM(E47-D47) -> 0
A48: 7. | B48: August | C48: Freitag | G48: {=SUM(E49:E51-D49:D51)} -> 0 | I48: {=SUMPRODUCT(G49:G51*24,H49:H51)} -> 0
C49: Einheit 1 | G49: =SUM(E49-D49) -> 0
C50: Einheit 2 | G50: =SUM(E50-D50) -> 0
C51: Einheit 3 | G51: =SUM(E51-D51) -> 0
A52: 8. | B52: August | C52: Samstag | G52: {=SUM(E53:E55-D53:D55)} -> 0 | I52: {=SUMPRODUCT(G53:G55*24,H53:H55)} -> 0
C53: Einheit 1 | G53: =SUM(E53-D53) -> 0
C54: Einheit 2 | G54: =SUM(E54-D54) -> 0
...

Sheet September
A10: Ehrenamtler/in - Stundenabrechnung
A12: Ehrenamtler/in: | C12: =Gesamtübersicht!C12 -> 0
A13: Adresse: | C13: =Gesamtübersicht!C13 -> 0
A14: Mobil: | C14: =Gesamtübersicht!C14 -> 0
A15: IBAN: | C15: =Gesamtübersicht!C15 -> 0
D19: Monat | E19: Jahr
A20: Abrechnung Ehrenamtspauschale für: | D20: September | E20: 2026
A21: in der Abteilung: | D21: =Gesamtübersicht!C16 -> 0
A23: # | B23: Monat | C23: Tag | D23: Beginn | E23: Ende | F23: Trainingsort | G23: Dauer (Std.) | H23: Stundensatz | I23: Gesamt
A24: 1. | B24: September | C24: Dienstag | G24: {=SUM(E25:E27-D25:D27)} -> 0 | I24: {=SUMPRODUCT(G25:G27*24,H25:H27)} -> 0
C25: Einheit 1 | G25: =SUM(E25-D25) -> 0
C26: Einheit 2 | G26: =SUM(E26-D26) -> 0
C27: Einheit 3 | G27: =SUM(E27-D27) -> 0
A28: 2. | B28: September | C28: Mittwoch | G28: {=SUM(E29:E31-D29:D31)} -> 0 | I28: {=SUMPRODUCT(G29:G31*24,H29:H31)} -> 0
C29: Einheit 1 | G29: =SUM(E29-D29) -> 0
C30: Einheit 2 | G30: =SUM(E30-D30) -> 0
C31: Einheit 3 | G31: =SUM(E31-D31) -> 0
A32: 3. | B32: September | C32: Donnerstag | G32: {=SUM(E33:E35-D33:D35)} -> 0 | I32: {=SUMPRODUCT(G33:G35*24,H33:H35)} -> 0
C33: Einheit 1 | G33: =SUM(E33-D33) -> 0
C34: Einheit 2 | G34: =SUM(E34-D34) -> 0
C35: Einheit 3 | G35: =SUM(E35-D35) -> 0
A36: 4. | B36: September | C36: Freitag | G36: {=SUM(E37:E39-D37:D39)} -> 0 | I36: {=SUMPRODUCT(G37:G39*24,H37:H39)} -> 0
C37: Einheit 1 | G37: =SUM(E37-D37) -> 0
C38: Einheit 2 | G38: =SUM(E38-D38) -> 0
C39: Einheit 3 | G39: =SUM(E39-D39) -> 0
A40: 5. | B40: September | C40: Samstag | G40: {=SUM(E41:E43-D41:D43)} -> 0 | I40: {=SUMPRODUCT(G41:G43*24,H41:H43)} -> 0
C41: Einheit 1 | G41: =SUM(E41-D41) -> 0
C42: Einheit 2 | G42: =SUM(E42-D42) -> 0
C43: Einheit 3 | G43: =SUM(E43-D43) -> 0
A44: 6. | B44: September | C44: Sonntag | G44: {=SUM(E45:E47-D45:D47)} -> 0 | I44: {=SUMPRODUCT(G45:G47*24,H45:H47)} -> 0
C45: Einheit 1 | G45: =SUM(E45-D45) -> 0
C46: Einheit 2 | G46: =SUM(E46-D46) -> 0
C47: Einheit 3 | G47: =SUM(E47-D47) -> 0
A48: 7. | B48: September | C48: Montag | G48: {=SUM(E49:E51-D49:D51)} -> 0 | I48: {=SUMPRODUCT(G49:G51*24,H49:H51)} -> 0
C49: Einheit 1 | G49: =SUM(E49-D49) -> 0
C50: Einheit 2 | G50: =SUM(E50-D50) -> 0
C51: Einheit 3 | G51: =SUM(E51-D51) -> 0
A52: 8. | B52: September | C52: Dienstag | G52: {=SUM(E53:E55-D53:D55)} -> 0 | I52: {=SUMPRODUCT(G53:G55*24,H53:H55)} -> 0
C53: Einheit 1 | G53: =SUM(E53-D53) -> 0
C54: Einheit 2 | G54: =SUM(E54-D54) -> 0
...

Sheet Oktober
A10: Ehrenamtler/in - Stundenabrechnung
A12: Ehrenamtler/in: | C12: =Gesamtübersicht!C12 -> 0
A13: Adresse: | C13: =Gesamtübersicht!C13 -> 0
A14: Mobil: | C14: =Gesamtübersicht!C14 -> 0
A15: IBAN: | C15: =Gesamtübersicht!C15 -> 0
D19: Monat | E19: Jahr
A20: Abrechnung Ehrenamtspauschale für: | D20: Oktober | E20: 2026
A21: in der Abteilung: | D21: =Gesamtübersicht!C16 -> 0
A23: # | B23: Monat | C23: Tag | D23: Beginn | E23: Ende | F23: Trainingsort | G23: Dauer (Std.) | H23: Stundensatz | I23: Gesamt
A24: 1. | B24: Oktober | C24: Donnerstag | G24: {=SUM(E25:E27-D25:D27)} -> 0 | I24: {=SUMPRODUCT(G25:G27*24,H25:H27)} -> 0
C25: Einheit 1 | G25: =SUM(E25-D25) -> 0
C26: Einheit 2 | G26: =SUM(E26-D26) -> 0
C27: Einheit 3 | G27: =SUM(E27-D27) -> 0
A28: 2. | B28: Oktober | C28: Freitag | G28: {=SUM(E29:E31-D29:D31)} -> 0 | I28: {=SUMPRODUCT(G29:G31*24,H29:H31)} -> 0
C29: Einheit 1 | G29: =SUM(E29-D29) -> 0
C30: Einheit 2 | G30: =SUM(E30-D30) -> 0
C31: Einheit 3 | G31: =SUM(E31-D31) -> 0
A32: 3. | B32: Oktober | C32: Samstag | G32: {=SUM(E33:E35-D33:D35)} -> 0 | I32: {=SUMPRODUCT(G33:G35*24,H33:H35)} -> 0
C33: Einheit 1 | G33: =SUM(E33-D33) -> 0
C34: Einheit 2 | G34: =SUM(E34-D34) -> 0
C35: Einheit 3 | G35: =SUM(E35-D35) -> 0
A36: 4. | B36: Oktober | C36: Sonntag | G36: {=SUM(E37:E39-D37:D39)} -> 0 | I36: {=SUMPRODUCT(G37:G39*24,H37:H39)} -> 0
C37: Einheit 1 | G37: =SUM(E37-D37) -> 0
C38: Einheit 2 | G38: =SUM(E38-D38) -> 0
C39: Einheit 3 | G39: =SUM(E39-D39) -> 0
A40: 5. | B40: Oktober | C40: Montag | G40: {=SUM(E41:E43-D41:D43)} -> 0 | I40: {=SUMPRODUCT(G41:G43*24,H41:H43)} -> 0
C41: Einheit 1 | G41: =SUM(E41-D41) -> 0
C42: Einheit 2 | G42: =SUM(E42-D42) -> 0
C43: Einheit 3 | G43: =SUM(E43-D43) -> 0
A44: 6. | B44: Oktober | C44: Dienstag | G44: {=SUM(E45:E47-D45:D47)} -> 0 | I44: {=SUMPRODUCT(G45:G47*24,H45:H47)} -> 0
C45: Einheit 1 | G45: =SUM(E45-D45) -> 0
C46: Einheit 2 | G46: =SUM(E46-D46) -> 0
C47: Einheit 3 | G47: =SUM(E47-D47) -> 0
A48: 7. | B48: Oktober | C48: Mittwoch | G48: {=SUM(E49:E51-D49:D51)} -> 0 | I48: {=SUMPRODUCT(G49:G51*24,H49:H51)} -> 0
C49: Einheit 1 | G49: =SUM(E49-D49) -> 0
C50: Einheit 2 | G50: =SUM(E50-D50) -> 0
C51: Einheit 3 | G51: =SUM(E51-D51) -> 0
A52: 8. | B52: Oktober | C52: Donnerstag | G52: {=SUM(E53:E55-D53:D55)} -> 0 | I52: {=SUMPRODUCT(G53:G55*24,H53:H55)} -> 0
C53: Einheit 1 | G53: =SUM(E53-D53) -> 0
C54: Einheit 2 | G54: =SUM(E54-D54) -> 0
...

Sheet November
A10: Ehrenamtler/in - Stundenabrechnung
A12: Ehrenamtler/in: | C12: =Gesamtübersicht!C12 -> 0
A13: Adresse: | C13: =Gesamtübersicht!C13 -> 0
A14: Mobil: | C14: =Gesamtübersicht!C14 -> 0
A15: IBAN: | C15: =Gesamtübersicht!C15 -> 0
D19: Monat | E19: Jahr
A20: Abrechnung Ehrenamtspauschale für: | D20: November | E20: 2026
A21: in der Abteilung: | D21: =Gesamtübersicht!C16 -> 0
A23: # | B23: Monat | C23: Tag | D23: Start | E23: Ende | F23: Trainingsort | G23: Dauer (Std.) | H23: Stundensatz | I23: Gesamt
A24: 1. | B24: November | C24: Sonntag | G24: {=SUM(E25:E27-D25:D27)} -> 0 | I24: {=SUMPRODUCT(G25:G27*24,H25:H27)} -> 0
C25: Einheit 1 | G25: =SUM(E25-D25) -> 0
C26: Einheit 2 | G26: =SUM(E26-D26) -> 0
C27: Einheit 3 | G27: =SUM(E27-D27) -> 0
A28: 2. | B28: November | C28: Montag | G28: {=SUM(E29:E31-D29:D31)} -> 0 | I28: {=SUMPRODUCT(G29:G31*24,H29:H31)} -> 0
C29: Einheit 1 | G29: =SUM(E29-D29) -> 0
C30: Einheit 2 | G30: =SUM(E30-D30) -> 0
C31: Einheit 3 | G31: =SUM(E31-D31) -> 0
A32: 3. | B32: November | C32: Dienstag | G32: {=SUM(E33:E35-D33:D35)} -> 0 | I32: {=SUMPRODUCT(G33:G35*24,H33:H35)} -> 0
C33: Einheit 1 | G33: =SUM(E33-D33) -> 0
C34: Einheit 2 | G34: =SUM(E34-D34) -> 0
C35: Einheit 3 | G35: =SUM(E35-D35) -> 0
A36: 4. | B36: November | C36: Mittwoch | G36: {=SUM(E37:E39-D37:D39)} -> 0 | I36: {=SUMPRODUCT(G37:G39*24,H37:H39)} -> 0
C37: Einheit 1 | G37: =SUM(E37-D37) -> 0
C38: Einheit 2 | G38: =SUM(E38-D38) -> 0
C39: Einheit 3 | G39: =SUM(E39-D39) -> 0
A40: 5. | B40: November | C40: Donnerstag | G40: {=SUM(E41:E43-D41:D43)} -> 0 | I40: {=SUMPRODUCT(G41:G43*24,H41:H43)} -> 0
C41: Einheit 1 | G41: =SUM(E41-D41) -> 0
C42: Einheit 2 | G42: =SUM(E42-D42) -> 0
C43: Einheit 3 | G43: =SUM(E43-D43) -> 0
A44: 6. | B44: November | C44: Freitag | G44: {=SUM(E45:E47-D45:D47)} -> 0 | I44: {=SUMPRODUCT(G45:G47*24,H45:H47)} -> 0
C45: Einheit 1 | G45: =SUM(E45-D45) -> 0
C46: Einheit 2 | G46: =SUM(E46-D46) -> 0
C47: Einheit 3 | G47: =SUM(E47-D47) -> 0
A48: 7. | B48: November | C48: Samstag | G48: {=SUM(E49:E51-D49:D51)} -> 0 | I48: {=SUMPRODUCT(G49:G51*24,H49:H51)} -> 0
C49: Einheit 1 | G49: =SUM(E49-D49) -> 0
C50: Einheit 2 | G50: =SUM(E50-D50) -> 0
C51: Einheit 3 | G51: =SUM(E51-D51) -> 0
A52: 8. | B52: November | C52: Sonntag | G52: {=SUM(E53:E55-D53:D55)} -> 0 | I52: {=SUMPRODUCT(G53:G55*24,H53:H55)} -> 0
C53: Einheit 1 | G53: =SUM(E53-D53) -> 0
C54: Einheit 2 | G54: =SUM(E54-D54) -> 0
...

Sheet Dezember
A10: Ehrenamtler/in - Stundenabrechnung
A12: Ehrenamtler/in: | C12: =Gesamtübersicht!C12 -> 0
A13: Adresse: | C13: =Gesamtübersicht!C13 -> 0
A14: Mobil: | C14: =Gesamtübersicht!C14 -> 0
A15: IBAN: | C15: =Gesamtübersicht!C15 -> 0
D19: Monat | E19: Jahr
A20: Abrechnung Ehrenamtspauschale für: | D20: Dezember | E20: 2026
A21: in der Abteilung: | D21: =Gesamtübersicht!C16 -> 0
A23: # | B23: Monat | C23: Tag | D23: Start | E23: Ende | F23: Trainingsort | G23: Dauer (Std.) | H23: Stundensatz | I23: Gesamt
A24: 1. | B24: Dezember | C24: Dienstag | G24: {=SUM(E25:E27-D25:D27)} -> 0 | I24: {=SUMPRODUCT(G25:G27*24,H25:H27)} -> 0
C25: Einheit 1 | G25: =SUM(E25-D25) -> 0
C26: Einheit 2 | G26: =SUM(E26-D26) -> 0
C27: Einheit 3 | G27: =SUM(E27-D27) -> 0
A28: 2. | B28: Dezember | C28: Mittwoch | G28: {=SUM(E29:E31-D29:D31)} -> 0 | I28: {=SUMPRODUCT(G29:G31*24,H29:H31)} -> 0
C29: Einheit 1 | G29: =SUM(E29-D29) -> 0
C30: Einheit 2 | G30: =SUM(E30-D30) -> 0
C31: Einheit 3 | G31: =SUM(E31-D31) -> 0
A32: 3. | B32: Dezember | C32: Donnerstag | G32: {=SUM(E33:E35-D33:D35)} -> 0 | I32: {=SUMPRODUCT(G33:G35*24,H33:H35)} -> 0
C33: Einheit 1 | G33: =SUM(E33-D33) -> 0
C34: Einheit 2 | G34: =SUM(E34-D34) -> 0
C35: Einheit 3 | G35: =SUM(E35-D35) -> 0
A36: 4. | B36: Dezember | C36: Freitag | G36: {=SUM(E37:E39-D37:D39)} -> 0 | I36: {=SUMPRODUCT(G37:G39*24,H37:H39)} -> 0
C37: Einheit 1 | G37: =SUM(E37-D37) -> 0
C38: Einheit 2 | G38: =SUM(E38-D38) -> 0
C39: Einheit 3 | G39: =SUM(E39-D39) -> 0
A40: 5. | B40: Dezember | C40: Samstag | G40: {=SUM(E41:E43-D41:D43)} -> 0 | I40: {=SUMPRODUCT(G41:G43*24,H41:H43)} -> 0
C41: Einheit 1 | G41: =SUM(E41-D41) -> 0
C42: Einheit 2 | G42: =SUM(E42-D42) -> 0
C43: Einheit 3 | G43: =SUM(E43-D43) -> 0
A44: 6. | B44: Dezember | C44: Sonntag | G44: {=SUM(E45:E47-D45:D47)} -> 0 | I44: {=SUMPRODUCT(G45:G47*24,H45:H47)} -> 0
C45: Einheit 1 | G45: =SUM(E45-D45) -> 0
C46: Einheit 2 | G46: =SUM(E46-D46) -> 0
C47: Einheit 3 | G47: =SUM(E47-D47) -> 0
A48: 7. | B48: Dezember | C48: Montag | G48: {=SUM(E49:E51-D49:D51)} -> 0 | I48: {=SUMPRODUCT(G49:G51*24,H49:H51)} -> 0
C49: Einheit 1 | G49: =SUM(E49-D49) -> 0
C50: Einheit 2 | G50: =SUM(E50-D50) -> 0
C51: Einheit 3 | G51: =SUM(E51-D51) -> 0
A52: 8. | B52: Dezember | C52: Dienstag | G52: {=SUM(E53:E55-D53:D55)} -> 0 | I52: {=SUMPRODUCT(G53:G55*24,H53:H55)} -> 0
C53: Einheit 1 | G53: =SUM(E53-D53) -> 0
C54: Einheit 2 | G54: =SUM(E54-D54) -> 0
...
